Workbook
Name \0: #REF!
Name \0: #REF!
Name \0: #REF!
Name \0: #REF!
Name \0: #REF!
Name _1: #REF!
Name _1: #REF!
Name _109: #REF!
Name _109: #REF!
Name a: #REF!
Name a: #REF!
Name ADRESA: '[1]Osn-Pod'!$C$9
Name ADRESA: #REF!
Name ANEX_I: '[1]Osn-Pod'!#REF!
Name ANEX_I: #REF!
Name ANEX_I: #REF!
Name ANEX_II: '[1]Osn-Pod'!#REF!
Name ANEX_II: #REF!
Name ANEX_II: #REF!
Name ARAP_BROJ_SIT: #REF!
Name ARAP_BROJ_SIT: #REF!
Name ARAP_BROJ_SIT: #REF!
Name ARAP_BROJ_SIT: #REF!
Name area: #REF!
Name area: #REF!
Name asdf1¸: #REF!
Name asdf1¸: #REF!
Name ATR: #REF!
Name ATR: #REF!
Name ATR: #REF!
Name ATR: #REF!
Name AVANS_ISPL: '[1]Osn-Pod'!#REF!
Name AVANS_ISPL: #REF!
Name AVANS_ISPL: #REF!
Name AVANS_MJES: #REF!
Name AVANS_MJES: #REF!
Name AVANS_MJES: #REF!
Name AVANS_MJES: #REF!
Name b: #REF!
Name b: #REF!
Name brisi: #REF!
Name brisi: #REF!
Name brisi: #REF!
Name brisi: #REF!
Name BROJ_KUCA: #REF!
Name BROJ_KUCA: #REF!
Name BROJ_KUCA: #REF!
Name BROJ_KUCA: #REF!
Name BROJ_KUCA: #REF!
Name BROJ_LISTA: #REF!
Name BROJ_LISTA: #REF!
Name BROJ_LISTA: #REF!
Name BROJ_LISTA: #REF!
Name BROJ_LISTA: #REF!
Name BROJ_SIT: '[1]Osn-Pod'!#REF!
Name BROJ_SIT: #REF!
Name BROJ_SIT: #REF!
Name BROJ_UGOVORA: '[1]Osn-Pod'!$G$12
Name BROJ_UGOVORA: #REF!
Name cijene: #REF!

Sheet NASLOVNICA TROŠKOVNIK
P23: =[8]PODACI!D40 -> Slavonski Brod, travanj 2024.
H24: NAZIV I ADRESA PODNOSITELJA ZAHTJEVA: | L24: =[8]PODACI!D3 -> SUVLASNICI VIŠESTAMBENE ZGRADE
L25: =[8]PODACI!D4 -> Ante Starčevića 8
L26: =[8]PODACI!D5 -> 23000 Zadar
H27: OIB: | L27: =[8]PODACI!D6 -> 0
H28: NAZIV I ADRESA PROJEKTANTSKE TVRTKE: | L28: =[8]PODACI!D9 -> ALFA - INŽENJERING d.o.o.
L29: =[8]PODACI!D10 -> Osječka 125, Slavonski Brod
L30: =[8]PODACI!D11 -> tel: 035 449 397
L31: =[8]PODACI!H11 -> e-mail: alfa@alfa-inzenjering.hr
H32: NAZIV / NAMJENA ZGRADE: | L32: =[8]PODACI!D13 -> VIŠESTAMBENA ZGRADA (Po+P+14)
L33: =[8]PODACI!D14 -> Ante Starčevića 8
L34: =[8]PODACI!D15 -> 23000 Zadar
H35: LOKACIJA ZGRADE | L35: =[8]PODACI!D16 -> k.č.br. 5710/1; k.o. Zadar
H36: VRSTA DOKUMENTACIJE | L36: TROŠKOVNIK
H38: MAPA | L38: IV
H39: ZAJEDNIČKA OZNAKA PROJEKTA | L39: =[8]PODACI!D28 -> 69-24
H40: BROJ T.D. | L40: =[8]PODACI!D32 -> 69-24-4
H41: GLAVNI PROJEKTANT: | L41: =[8]PODACI!D36 -> Dražen LEKO, dipl.ing.građ. G 3026
H42: OVLAŠTENI INŽENJER: | L42: =[8]PODACI!D36 -> Dražen LEKO, dipl.ing.građ. G 3026
H43: DIREKTOR | L43: =[8]PODACI!D38 -> Dražen LEKO, dipl.ing.građ.

Sheet TROŠKOVNIK-NASLOVNA
F1: INVESTITOR : | G1: =""&[8]PODACI!D3&", "&[8]PODACI!D4&", "&[8]PODACI!D5 -> SUVLASNICI VIŠESTAMBENE ZGRADE, Ante Starčevića 8, 23000 Zadar | Q1: ='NASLOVNICA TROŠKOVNIK'!L39 -> 69-24
F2: GRAĐEVINA : | G2: =[8]PODACI!D13 -> VIŠESTAMBENA ZGRADA (Po+P+14) | Q2: ='NASLOVNICA TROŠKOVNIK'!L40 -> 69-24-4
I3: =[8]PODACI!D16 -> k.č.br. 5710/1; k.o. Zadar
I4: ='NASLOVNICA TROŠKOVNIK'!L36 -> TROŠKOVNIK | R4: List:
I5: =[8]PODACI!D40 -> Slavonski Brod, travanj 2024.
A37: IV. TROŠKOVNIK
N71: Projektant:
M74: ='NASLOVNICA TROŠKOVNIK'!L41 -> Dražen LEKO, dipl.ing.građ. G 3026

Sheet Troškovnik-opći
F1: INVESTITOR : | G1: =""&[8]PODACI!D3&", "&[8]PODACI!D4&", "&[8]PODACI!D5 -> SUVLASNICI VIŠESTAMBENE ZGRADE, Ante Starčevića 8, 23000 Zadar | Q1: ='TROŠKOVNIK-NASLOVNA'!Q1 -> 69-24
F2: GRAĐEVINA : | G2: =[8]PODACI!D13 -> VIŠESTAMBENA ZGRADA (Po+P+14) | Q2: ='TROŠKOVNIK-NASLOVNA'!Q2 -> 69-24-4
I3: =[8]PODACI!D16 -> k.č.br. 5710/1; k.o. Zadar
I4: ='TROŠKOVNIK-NASLOVNA'!I4 -> TROŠKOVNIK | R4: List:
I5: =[8]PODACI!D40 -> Slavonski Brod, travanj 2024.
A6: OPĆI UVJETI UZ TROŠKOVNIK
A8: Izvođač izvodi radove prema Općim uvjetima natječaja, Glavnom i Izvedbenom projektu, ovom troškovniku te radioničkim nacrtima. Izvođač je prije početka bilo kakvih radova dužan proučiti projektnu dokumentaciju te u slučaju nejasnoća tražiti objašnjenje od voditelja projekta, projektanta, investitora i nadzora. Nepoznavanje projekta i ovog troškovnika neće se prihvatiti kao razlog za povećanje jediničnih cijena, povećanje količina i broja stavki troškovnika, kao ni konačne cijene izvedbe do pune funkcionalnosti građevine koja je predmet projekta i troškovnika. Stoga, nepoznavanje projekta i troškovnika neće se uzeti u obzir kao razlog umanjenja za stjecanje kvalitete pojedinih radova te greški u izvedbi.
A9: Podrazumijeva se da je izvođač upoznat s potpunim i nedvosmislenim informacijama o pristupu ljudi, opreme i strojeva konkretnom građevinskom zahvatu iz ovog projekta po pitanju ugradnje, skladištenja, manipulacije i montaže.
A10: Izvođač je dužan pridržavati se svih pozitivnih važećih zakona i propisa RH i to naročito Zakona o prostornom uređenju, Zakona o gradnji, Zakona o zaštiti na radu, Zakona o zaštiti od požara, tehničkih propisa, pravilnika i normi.
A11: Ukoliko opis pojedine stavke dovodi izvoditelja u nedoumicu o načinu izvedbe, treba pravovremeno tražiti objašnjenje od naručitelja.
A12: Ako tijekom gradnje dođe do promjena, treba prije početka rada tražiti suglasnost Investitora i nadzornog inženjera i sve to unijeti u građevinski dnevnik uz ovjeru nadzornog inženjera. Odnosno, sve izmjene trebaju biti ugovorene u skladu sa zakonom o javnoj nabavi. Sve više radnje do kojih dođe uslijed promjene načina ili opsega izvedbe, a nisu na spomenuti način utvrđene, upisane i ovjerene, neće se priznati u obračunu.
A13: Prije izrade ponude izvoditelj može obići i pregledati građevinu zbog ocjene njezinog građevinskog stanja, radova obuhvaćenih troškovnikom, uvjeta organizacije gradilišta, načina i mogućnosti pristupa građevini, mogućnosti zauzimanja javne površine, postave skele, osiguranja ulaza u građevinu i sl. Neovisno o tome je li izvoditelj obišao građevinu, Naručitelj će smatrati da je izvoditelj obišao i detaljno pregledao lokaciju (zonu obuhvata) i građevinu te je dobro upoznat sa svim uvjetima, faktorima i resursima u odnosu i u svezi s lokacijom ili onim koji mogu utjecati na izvršenje radova te da je na temelju navedenog podnio svoju ponudu. Stoga odabrani izvoditelj nema pravo zahtijevati povećanje cijene ili drugu naknadu, pozivajući se da u vrijeme davanja ponude nije bio upoznat s okolnostima vezanim uz lokaciju postojeće građevine.
A14: Prema tome, ponuđena cijena je konačna cijena za realizaciju pojedine troškovničke stavke i ne može se mijenjati.
A15: Bez obzira na vrstu pogodbe, izvoditelj je obvezan svakodnevno voditi građevinski dnevnik u dva primjerka, a također i građevinsku knjigu, koje će redovito kontrolirati i ovjeravati nadzorni inžinjer, kako bi se uvijek mogle ustanoviti stvarne količine izvedenih radova.
A16: Izvođač je dužan izvesti radove previđene projektom i troškovnikom do pune funkcionalnosti koju će utvrditi stručni nadzor i investitor kroz dokumentaciju i zapisnik.
A17: Izvođač je dužan čistiti gradilište redovito tijekom građenja, a na kraju treba detaljno (fino) očistiti zidove, podove, vrata, prozore, stijene, stakla i sve druge građevinske predmete, odnosno građevinske proizvode.
A18: Izvođač je dužan sav višak materijala deponirati na ovlaštenu gradsku deponiju udaljenosti do 10 km te sve uključiti u cijenu (utovar, prijevoz, istovar, trošak deponiranja i sl.). Gradska deponija znači zakonito predviđeno mjesto za deponiranje, odnosno mjesto koje zadovoljava sve potrebne uvjete za deponiranje određene vrste materijala. Po potrebi i nalogu naručitelja odnosno nadzornog inženjera, koristiti prostor za gradilišnu deponiju unutar parcele.
... A32: Poduzet će se mjere za smanjenje emisije buke, prašine i onečišćujućih tvari tijekom građevinskih radova, sukladno Zakonu o gradnji članku 133. Uređenje gradilišta koji zahtijeva da se na gradilištu predvide i provode mjere zaštite na radu te ostale mjere za zaštitu života i zdravlja ljudi u skladu s posebnim propisima, te kojima se onečišćenje zraka, tla i podzemnih voda te buka svodi na najmanju mjeru. Tako će se prilikom obnove zgrade radovi izvoditi samo u dnevnom razdoblju, svi rastresiti materijali će biti sklonjeni (prekrivanjem ili po potrebi vlaženjem) kako bi se spriječilo rasipanje tijekom kiše i vjetra, a sva uklanjanja i demontaže građevnih elemenata i materijala vršit će tehnikama koje sprečavaju širenje prašine i štetnih tvari na susjedne površine te će se kada je potrebno koristiti zaštitne ograde.
B35: =[8]PODACI!D40 -> Slavonski Brod, travanj 2024.
N38: Projektant:
M41: Dražen LEKO, dipl.ing.građ.

Sheet TROŠKOVNIK OBNOVE 
F1: INVESTITOR : | G1: =[9]PODACI!D3&" "&[9]PODACI!D4&" "&[9]PODACI!D5 -> SUVLASNICI NEKRETNINE Ante Starčevića 8 ZADAR | S1: 69-24
F3: GRAĐEVINA : | G3: =[9]PODACI!D13 -> VIŠESTAMBENA ZGRADA (Po+P+14) | S3: 69-24-4
I4: =[9]PODACI!D14 -> k.č. 5710/1; k.o. Zadar | S4: List br:
I5: ='[9]NASLOVNICA TROŠKOVNIK'!L37 -> TROŠKOVNIK
A9: Red. br. | C9: opis | M9: jdm | N9: kol. | P9: jed. cijena | R9: ukupna cijena
A10: 1. | C10: PRIPREMNI RADOVI I RADOVI UKLANJANJA | R10: =SUM(R12:T54) -> 0
A12: =A10 -> 1. | B12: 1 | C12: Postavljanje privremenih gradilišnih građevina Postavljanje privremenih gradilišnih građevina (baraka, kontejnera, kemijskih wc-a i sl.), postavljanje zaštitne ograde na za to potrebnim (predviđenim) mjestima, izrada i postavljanje ulazne table gradilišta, postavljanje znakova upozorenja, osiguranje gradilišta od ulaska neovlaštenih osoba i nakon završetka radnog vremena. Stavkom je obuhvaćeno i skladištenje predviđenih materijala. Obračun po kompletu izvedenih radova. | M12: kpl | N12: 1 | R12: =N12*P12 -> 0
A14: =A10 -> 1. | B14: =B12+1 -> 2 | C14: Demontaža svih postojećih vertikalnih oluka, diletacijskih i okapnih limova Demontaža svih postojećih vertikalnih oluka, diletacijskih i okapnih limova po vanjskom obodu zgrade i nad ventilacionim kanalima kako bi se mogla izvesti nova toplinska izolacija krova i vanjskih zidova. Stavka obuhvaća demontažu, utovar i odvoz materijala na gradsku deponiju udaljenosti do 20 km. Skela u posebnoj stavci. U cijenu uključiti sav potreban rad i sredstva za rad te sve mjere osiguranja. Obračun po m1 demontiranih limova. | M14: m1 | N14: 350 | R14: =N14*P14 -> 0
A16: =A10 -> 1. | B16: =B14+1 -> 3 | C16: Čišćenje ravnog krova Čišćenje ravnog krova od postojećeg kamenog oblutka u sloju debljine 3 cm. Stavka obuhvaća čišćenje i skladištenje materijala te ponovno vraćanje istog nakon izrade toplinske i hidroizolacije. Obračun po m2. U cijenu uključiti rad i sve mjere osiguranja. | M16: m2 | N16: 580 | R16: =N16*P16 -> 0
A18: =A10 -> 1. | B18: =B16+1 -> 4 | C18: Demontaža te ponovna montaža svih gromobranskih traka Demontaža te ponovna montaža svih gromobranskih traka na ravnom krovu komplet s betonskim nosačima kako bi se mogla izvesti toplinska i hidroizolacija krova. Prije skidanja gromobranskih traka napraviti snimanje postojećeg stanja na osnovu kojeg će se postaviti nova instalacija. Nakon postave kamena, postojeće gromobranske trake potrebno vratiti na pripadajuće mjesto uključivo sva spajanja i pričvršćivanja. U cijenu uključiti sav potreban rad i sredstva za rad te sve mjere osiguranja. Skela je u posebnoj stavci. Obračun po m1 gromobranskih traka. | M18: m1 | N18: 30 | R18: =N18*P18 -> 0
A20: =A16 -> 1. | B20: =B18+1 -> 5 | C20: Demontaža vanjskih i unutarnjih prozorskih klupčica Demontaža svih postojećih kamenih, limenih i plastičnih vanjskih prozorskih klupčica i unutarnjih ali samo na pozicijama na kojima se mijenja stolarija. Stavka uključuje demontažu i odvoz materijala na za to ovlaštenu deponiju udaljenosti do 20 km. Skela u posebnoj stavci. U cijenu uključiti sav potreban rad i sredstva za rad te sve mjere osiguranja. Obračun po m1 demontiranih klupčica.
C21: a) vanjske klupčice | M21: m1 | N21: 500 | R21: =N21*P21 -> 0
C22: b) unutarnje klupčice | M22: m1 | N22: 265 | R22: =N22*P22 -> 0
A24: =A10 -> 1. | B24: =B20+1 -> 6 | C24: Demontaža postojeće vanjske drvene stolarije i metalne bravarije Demontaža postojeće drvene stolarije i metalne bravarije koju je potrebno zamijeniti novom. Stavka uključuje demontažu stolarije i bravarije te odvoz šute, demontiranih prozora i vrata na za to ovlaštenu deponiju udaljenosti do 20 km. U cijenu uključiti sav potreban rad i sredstva za rad, potrebnu radnu skelu te sve mjere osiguranja. Obračun po komadu demontiranih vrata ili prozora. Prozori se sastoje od više krila.
C25: a) veličina do 3 m2 | M25: kom | N25: 119 | R25: =N25*P25 -> 0
C26: b) veličina od 3 - 5 m2 | M26: kom | N26: 11 | R26: =N26*P26 -> 0
C27: c) veličina preko 5 m2 | M27: kom | N27: 50 | R27: =N27*P27 -> 0
A29: 1. | B29: 7. | C29: Demontaža i ponovna montaža vanjskih jedinica klima uređaja Demontaža vanjskih jedinica klima uređaja i njihovih nosača radi izvedbe toplinske izolacije zidova. Klima uređaje demontirati, te ih uskladištiti u zatvoreni prostor do završetka izvedbe radova fasade, a postojeće nosače deponirati na deponiju. Demontirane vanjske klima jedinice uskladištiti na primjeren način - zaštititi od vanjskih utjecaja i čuvati od otuđivanja. Nakon završetka radova fasade, klima uređaje montirati na pripadajuće mjesto na nove nosače prilagođene novoj debljini fasade uključivo elektroinstalaterske radove i kompletan servis sustava za hlađenje i grijanje (čišćenje i punjenje klima jedinica odgovarajućim plinom R410 te puštanje u rad istih) od strane ovlaštenog servisera.
C30: U cijenu uračunati sva nova spojna i pričvrsna sredstva, potrebne tiple i vijke koji su prilagođeni novoj debljini fasade i nove cijevi za odvod kondenzata. Nove nosače ugraditi prije početka ljepljenja toplinske izolacije, a vanjske jedinice nakon izrade završnog sloja fasade. Prije demontaže klima uređaja provjeriti ispravnost svakog uređaja te o tome obavijestiti Nadzor. U slučaju da ponovno montirani klima uređaj ne radi ispravno sve troškove popravka i eventualne zamjene s novim uređajem snosi Izvođač radova. U cijenu uključiti rad, skladištenje materijala, potrebnu radnu skelu i sve mjere osiguranja. Obračun po komadu. | M30: kom | N30: 65 | R30: =N30*P30 -> 0
A32: =A12 -> 1. | B32: 8. | C32: Demontaža i ponovna montaža postojećih antena Demontaža i ponovna montaža postojećih antena na pročeljima zgrade i s ravnog krova. Stavka uključuje demontažu, skladištenje do završetka radova te ponovnu montažu istih na za to odgovarajuća mjesta ukoliko je potrebno. U cijenu uračunata i sva nova spojna i pričvrsna sredstva, sav potreban rad i sredstva za rad te skladištenje materijala i sve mjere osiguranja. Obračun po komadu. | M32: kom | N32: 10 | R32: =N32*P32 -> 0
A34: =A10 -> 1. | B34: 9. | C34: Demontaža i ponovna montaža postojećih rasvjetnih tijela na pročeljima zgrade Demontaža i ponovna montaža postojećih rasvjetnih tijela na pročeljima zgrade. Stavka uključuje demontažu, skladištenje do završetka radova te ponovnu montažu istih na za to odgovarajuća mjesta. Uključiti i elektroinstalaterske radove sva nova spojna i pričvrsna sredstva, potrebne tiple i vijke koji su prilagođeni novoj debljini fasade. Rasvjetna tijela i kablove zaštiti od oštećenja. U cijenu uključiti rad, skladištenje materijala i sve mjere osiguranja. Skela u posebnoj stavci. Obračun po komadu. | M34: kom | N34: 5 | R34: =N34*P34 -> 0
A36: =A10 -> 1. | B36: 10. | C36: Demontaža i ponovna montaža držača zastave Demontaža držača zastave na ulaznom pročelju u prizemlju zgrade. Stavka uključuje demontažu, AKZ zaštitu nosača (2 premaza) i bojenje završnom bojom (2 premaza), skladištenje do završetka radova te ponovnu montažu istog na za to odgovarajuće mjesto. U cijenu uključiti rad, skladištenje materijala i sve mjere osiguranja. Skela u posebnoj stavci. Obračun po komadu. | M36: kom | N36: 1 | R36: =N36*P36 -> 0
A38: =A12 -> 1. | B38: 11. | C38: Demontaža natpisne ploče Demontaža natpisne ploče koja se nalazi pored ulaza u zgradu. Ploča je kamena dimenzija cca 0,60 x 0,30 m. Stavka uključuje demontažu, odgovarajuće čišćenje, skladištenje do završetka radova te ponovnu montažu nakon izvedbe toplinske izolacije. Uključiti i sva nova pričvrsna sredstva. U cijenu uključiti rad, skladištenje materijala i sve mjere osiguranja. Skela u posebnoj stavci. Obračun po komadu. | M38: kom | N38: 1 | R38: =N38*P38 -> 0
A40: =A38 -> 1. | B40: 12. | C40: Demontaža kućnog broja i ploče s nazivom ulice Demontaža kućnog broja i ploče s nazivom ulice koje se nalazi pored ulaza u zgradu. Dimenzija kućnog broja cca 10x10 cm, ploča s nazivom ulice dimenzija cca20x50cm. Stavka uključuje demontažu, odgovarajuće čišćenje, skladištenje do završetka radova te ponovnu montažu nakon izvedbe toplinske izolacije. Uključiti i sva nova pričvrsna sredstva. U cijenu uključiti rad, skladištenje materijala i sve mjere osiguranja. Skela u posebnoj stavci. Obračun po komadu.
C41: a) kućni broj | M41: kom | N41: 1 | R41: =N41*P41 -> 0
C42: b) ploča s nazivom ulice | M42: kom | N42: 1 | R42: =N42*P42 -> 0
A44: 1. | B44: 13. | C44: Demontaža i ponovna montaža interfona Demontaža i ponovna montaža interfona u prizemlju zgrade od ulaznih vrata. Stavka uključuje demontažu, skladištenje do završetka radova te ponovnu montažu istog na za to odgovarajuće mjesto. Uključiti i elektroinstalaterske radove i sva nova spojna i pričvrsna sredstva. Interfon i kablove zaštiti od oštećenja. U cijenu uključiti rad, skladištenje materijala i sve mjere osiguranja. Skela je u posebnoj stavci. Obračun po komadu. | M44: kom | N44: 1 | R44: =N44*P44 -> 0
A46: 1. | B46: 14. | C46: Obijanje postojeće žbuke Obijanje postojeće žbuke na pročeljima zgrade debljine 1-3 cm koja je u lošem stanju na mjestima gdje je to potrebno. Žbuku treba obiti do čvrste podloge, a nakon toga otprašiti. Potrebnu površinu obijanja usuglasiti s Nadzornim inženjerom. Stavka obuhvaća sav potreban rad i sredstva za rad te odvoz šute na deponiju udaljenosti do 20 km. Skela u posebnoj stavci. Obračun po m2 stvarno obijene i odvežene šute. | M46: m2 | N46: 400 | R46: =N46*P46 -> 0
A48: =A50 -> 1. | B48: 15. | C48: Demontaža limenog pokrova iznad stubišta Demontaža i skidanje postojećeg pokrova od trapeznog lima s krova iznad stubišta sa sjevernog pročelja objekta, uključujući dotrajale krovne letve. Tijekom izvedbe radova moraju se osigurati sigurnosne mjere za korisnike građevine; mjere zaštite od padova, kiše, vjetrova i sl. Stavka uključuje demontažu, utovar i odvoz materijala na deponiju udaljenosti do 20 km. U cijenu uključiti rad, potrebnu radnu skelu i sve mjere osiguranja. Obračun po m2 demontirane površine. | M48: m2 | N48: 25 | R48: =N48*P48 -> 0
A50: =A10 -> 1. | B50: 16. | C50: Doprema, montaža, demontaža i otprema radne dizalice Doprema, montaža, demontaža i otprema radne dizalice s mogućnošću dizanja i spuštanja na visinu od 48 m za potrebe rekonstrukcije ravnog krova i ostalih radova. Radna platforma služi za dizanje i spuštanje potrebnog materijala, šute i dr. Obračun po komadu. | M50: kom | N50: 1 | R50: =N50*P50 -> 0
A52: 1. | B52: 17. | C52: Demontaža raznih metalnih dijelova Demontaža raznih metalnih dijelova na zidovima i krovovima. Stavka obuhvaća demontažu, iznošenje iz građevine, utovar i odvoz materijala na gradsku deponiju, troškove deponiranja u komunalnom poduzeću, te sav rad i sredstva za rad. Troškove deponiranja snosi izvođač Obračun po komadu demontiranog držača. EVANTUALNIM DOGOVOROM SA VLASNIKOM, NOSAČ SE MOŽE PREDATI ISTOM. | M52: kom | N52: 20 | R52: =N52*P52 -> 0
A54: 1. | B54: 18. | C54: Otprašivanje svih zidova i stropova Otprašivanje svih vanjskih zidova i stropova istaka-balkona, terasa, nadstrešnica iznad ulaza, nakon svih obijanja, a prije nanošenja impregnacije. Stavka obuhvaća sav potreban rad i sredstva za rad te potrebnu radnu skelu. Prilikom izvođenja radova obvezno zaštiti PVC stolariju koja se ne mijenja. Obračun po m2 stvarno oprašenih površina | M54: m2 | N54: 5900 | R54: =N54*P54 -> 0
A56: 2. | C56: IZOLATERSKI RADOVI | R56: =SUM(R59:T82) -> 0
C58: NEPROHODNI RAVNI KROV - mehanički učvršćen
A59: =A56 -> 2. | B59: 1. | C59: Dobava i izrada parne brane Dobava i izrada parne brane od sintetičke folije na bazi polietilena visoke gustoće, d=0,20 mm. Folija se slobodno polaže na podlogu i spaja samoljepljivom trakom. U cijenu uključiti sav potreban rad i materijal te sve mjere osiguranja. Obračun po tlocrtnoj površini po m2. | M59: m2 | N59: 580 | R59: =N59*P59 -> 0
A61: =A56 -> 2. | B61: 2. | C61: Dobava i ugradnja toplinske izolacije za ravni krov Dobava i ugradnja toplinske izolacije od tvrde kamene vune namjenjene za izolaciju ravnog neprohodnog krova ukupne debljine d=10 cm. Prilikom postavljanja izolacije pratiti postojeće padove ravnog krova. Tehničke karakteristike koje minimalno moraju ispunjavati izolacijski sustav su: klasa negorivosti - A1 i koeficijent toplinske provodljivosti - 0,035 W/mK.U cijenu uključiti sav potreban rad i materijal te sve mjere osiguranja. Obračun po m2. | M61: m2 | N61: 580 | R61: =N61*P61 -> 0
A63: =A56 -> 2. | B63: 3. | C63: Dobava materijala i izrada hidroizolacije na bazi TPO-a Dobava materijala i izrada hidroizolacije na bazi TPO-a - višeslojne sintetičke krovne mebrane armirane poliesterskom mrežicom, UV stabiliziranom, debljine 1,8 mm. Trake se polažu direktno na kamenu vunu odnosno geotekstil. Mehaničko pričvršćenje izvodi se nehrđajućim vijcima sa širokom podložnom pločicom od 8 kom/m2. Spojevi se obrađuju toplinskim ili kemijskim putem sa širinom spoja od min. 40 mm i preklopom traka min. 10 cm u skladu s propisanim normama od strane proizvođača trake. Hidroizolacija se na detaljima učvršćuje plastificiranim limovima istog proizvođača i hermetizira po potrebi poliuretanskim kitovima. Kvaliteta ugrađene hidroizolacije dokazuje se ispitivanjem vodenom probom u trajanju minimalno 24 sata, a predaje upisom u građevinski dnevnik. U cijenu uključiti sav potreban rad i materijal te sve mjere osiguranja. Obračun po tlocrtnoj površini po m2. | M63: m2 | N63: 580 | R63: =N63*P63 -> 0
A65: =A59 -> 2. | B65: 4. | C65: Dobava i ugradnja slivnika Dobava i ugradnja slivnika od tvrdog PVC-a promjera Ø 110-160 mm, s pripadajućom manžetom za priključak na hidroizolaciju uključujući brtvu i kišnu rešetku. Veličinu prilagoditi visini postojećih i novih slojeva izolacije ravnog neprohodnog krova. U cijenu uključiti sav potreban rad i materijal, transport, te sve mjere osiguranja. Obračun po komadu ugrađenog slivnika. | M65: kom | N65: 9 | R65: =N65*P65 -> 0
A67: =A61 -> 2. | B67: 5. | C67: Dobava i montaža odzračnika Dobava i montaža odzračnika promjera 200 mm, izrađenih od tvrdog PVC-a s mogućnošću demontaže. U cijenu uključitit sav potreban rad i materijal te sve mjere osiguranja. Obračun po komadu ugrađenog odzračnika. | M67: kom | N67: 9 | R67: =N67*P67 -> 0
A69: =A59 -> 2. | B69: 6. | C69: Dobava i postava vertikalne hidroizolacije Dobava i postava vertikalne hidroizolacije kao u stavci 2.3 na prodorima dimnjaka, ventilacionih kanala i strojarnice. Vertikalna hidroizolacija se podiže 40 cm iznad kote gotovog krova uz obod dimnjaka, ventilacionih kanala i strojarnice. U cijenu uključiti sav potreban rad i materijal, uključivo preklopi, te sve mjere osiguranja. Obračun po m1. | M69: m1 | N69: 360 | R69: =N69*P69 -> 0
...

Sheet STROJARSKI 
B1: TROŠKOVNIK ENERGETSKE OBNOVE KOTLOV.
B2: POSTRO. S PRIKLJUČKOM NA JAVNU INFRAST.
B3: PRIR. PLINA ZA VIŠESTAMBENE ZGRADE
B4: ANTE STARČEVIĆA 8, ZADAR
A6: R.br. | B6: OPIS | C6: J.M. | D6: KOL. | E6: CIJENA | F6: UKUPNO CIJENA
A8: A | B8: Građevinski dio
A10: 1. | B10: Iskop zemljišta za MRS i pl. bojlere IV-V kateg. U širokom otkopu
B11: Materijal iskopa utovariti u vozilo i odvesti na gradsku deponiju
B12: U cijenu uključena naknada deponije. | C12: m3 | D12: 8 | F12: =D12*E12 -> 0
A14: 2. | B14: Šalovanje i armiranje armaturom, mrežom Q335 te betoniranje
B15: betonom MB-30 betonske ploče | C15: m3 | D15: 8 | F15: =D15*E15 -> 0
A17: 3. | B17: Propilavanje asfalta prije iskopa kanala te iskop kanala presjeka
B18: 80 x 120 cm, duljine 30m. Dio materijala od iskopa odnjeti na
B19: gradsku deponiju i asvalt. U cijenu uključena naknada deponije. | C19: m3 | D19: 32 | F19: =D19*E19 -> 0
A21: 4. | B21: Nasipavanje posteljice tucanikom 0-4 mm u sloju 30 cm.
B22: Postaviti detektorsku traku za plin | C22: m | D22: 32 | F22: =D22*E22 -> 0
A24: 5. | B24: Probijanje zidova i spajanje na dimnjak | C24: kol | D24: 2 | F24: =D24*E24 -> 0
A26: 6. | B26: Dobava i postava tipske montažne panel ograde tip Betafence
B27: Nylofor 3D u tamno zelenoj boji visine 2,5m s vratima
B28: i cilindar bravom od pocinčanog profila i ispunom od žičanog
B29: pletiva dim. 100 x 200 za plinske bojlere | C29: m2 | D29: 40 | F29: =D29*E29 -> 0
B31: Ukupno A | F31: =SUM(F11:F29) -> 0
A33: B | B33: MRS i plinovod
A35: 7. | B35: Mjerno regulacijska stanica
B36: Pu=2-5 bar, Piz=25 mbar, Vmax=100 m3/h
B37: s korek. Temp. I tlaka, komplet s ormarom i ključem | C37: kpl | D37: 1 | F37: =D37*E37 -> 0
A39: 8. | B39: Čelična bešavna cijev
B40: (Stavka obuhvaća sve potrebne spojnice, redukcije,
B41: fitinge i potrebni pričvrsni i ovjesni materijal s izolacijom min.
B42: 50 mm i zaštitnim limom)
B43: DN125, 133 x 4 | C43: m | D43: 120 | F43: =D43*E43 -> 0
B44: DN100, 114,3 x 3,6 | C44: m | D44: 120 | F44: =D44*E44 -> 0
B45: DN80, 88,9 x 3,2 | C45: m | F45: =D45*E45 -> 0
B46: DN50, 60,3 x 2,9 | C46: m | D46: 4 | F46: =D46*E46 -> 0
B47: DN40, 48,3 x 2,6 | C47: m | D47: 3 | F47: =D47*E47 -> 0
B48: DN32, 42,4 x 2,6 | C48: m | D48: 3 | F48: =D48*E48 -> 0
B49: DN25, 33,7 x 2,6 | C49: m | D49: 3 | F49: =D49*E49 -> 0
B50: DN20, 26,4 x 2,6 | C50: m | F50: =D50*E50 -> 0
A52: 9. | B52: Plinski zaporni ventil
B53: DN100-prirubnički | C53: kom | D53: 2 | F53: =D53*E53 -> 0
...

Sheet REKAPITULACIJA
A7: 1. | B7: REKAPITULACIJA
A9: 1 | B9: GRAĐEVINSKO OBRTNIČKI RADOVI | F9: =+'TROŠKOVNIK OBNOVE '!P216 -> 0
A10: 2 | B10: STROJARSKI RADOVI | F10: =+'STROJARSKI '!F161 -> 0
B12: UKUPNO | F12: =SUM(F9:F10) -> 0
B14: PDV 25% | F14: =F12*0.25 -> 0
B16: SVEUKUPNO | F16: =F12+F14 -> 0
