Workbook
Name \0: #REF!
Name \0: #REF!
Name \0: #REF!
Name \0: #REF!
Name \0: #REF!
Name _1: #REF!
Name _1: #REF!
Name _109: #REF!
Name _109: #REF!
Name a: #REF!
Name a: #REF!
Name ADRESA: '[1]Osn-Pod'!$C$9
Name ADRESA: #REF!
Name ANEX_I: '[1]Osn-Pod'!#REF!
Name ANEX_I: #REF!
Name ANEX_I: #REF!
Name ANEX_II: '[1]Osn-Pod'!#REF!
Name ANEX_II: #REF!
Name ANEX_II: #REF!
Name ARAP_BROJ_SIT: #REF!
Name ARAP_BROJ_SIT: #REF!
Name ARAP_BROJ_SIT: #REF!
Name ARAP_BROJ_SIT: #REF!
Name area: #REF!
Name area: #REF!
Name asdf1¸: #REF!
Name asdf1¸: #REF!
Name ATR: #REF!
Name ATR: #REF!
Name ATR: #REF!
Name ATR: #REF!
Name AVANS_ISPL: '[1]Osn-Pod'!#REF!
Name AVANS_ISPL: #REF!
Name AVANS_ISPL: #REF!
Name AVANS_MJES: #REF!
Name AVANS_MJES: #REF!
Name AVANS_MJES: #REF!
Name AVANS_MJES: #REF!
Name b: #REF!
Name b: #REF!
Name brisi: #REF!
Name brisi: #REF!
Name brisi: #REF!
Name brisi: #REF!
Name BROJ_KUCA: #REF!
Name BROJ_KUCA: #REF!
Name BROJ_KUCA: #REF!
Name BROJ_KUCA: #REF!
Name BROJ_KUCA: #REF!
Name BROJ_LISTA: #REF!
Name BROJ_LISTA: #REF!
Name BROJ_LISTA: #REF!
Name BROJ_LISTA: #REF!
Name BROJ_LISTA: #REF!
Name BROJ_SIT: '[1]Osn-Pod'!#REF!
Name BROJ_SIT: #REF!
Name BROJ_SIT: #REF!
Name BROJ_UGOVORA: '[1]Osn-Pod'!$G$12
Name BROJ_UGOVORA: #REF!
Name cijene: #REF!

Sheet NASLOVNICA TROŠKOVNIK
P23: =[8]PODACI!D40 -> Slavonski Brod, travanj 2024.
H24: NAZIV I ADRESA PODNOSITELJA ZAHTJEVA: | L24: =[8]PODACI!D3 -> SUVLASNICI VIŠESTAMBENE ZGRADE
L25: =[8]PODACI!D4 -> Ante Starčevića 8
L26: =[8]PODACI!D5 -> 23000 Zadar
H27: OIB: | L27: =[8]PODACI!D6 -> 0
H28: NAZIV I ADRESA PROJEKTANTSKE TVRTKE: | L28: =[8]PODACI!D9 -> ALFA - INŽENJERING d.o.o.
L29: =[8]PODACI!D10 -> Osječka 125, Slavonski Brod
L30: =[8]PODACI!D11 -> tel: 035 449 397
L31: =[8]PODACI!H11 -> e-mail: alfa@alfa-inzenjering.hr
H32: NAZIV / NAMJENA ZGRADE: | L32: =[8]PODACI!D13 -> VIŠESTAMBENA ZGRADA (Po+P+14)
L33: =[8]PODACI!D14 -> Ante Starčevića 8
L34: =[8]PODACI!D15 -> 23000 Zadar
H35: LOKACIJA ZGRADE | L35: =[8]PODACI!D16 -> k.č.br. 5710/1; k.o. Zadar
H36: VRSTA DOKUMENTACIJE | L36: TROŠKOVNIK
H38: MAPA | L38: IV
H39: ZAJEDNIČKA OZNAKA PROJEKTA | L39: =[8]PODACI!D28 -> 69-24
H40: BROJ T.D. | L40: =[8]PODACI!D32 -> 69-24-4
H41: GLAVNI PROJEKTANT: | L41: =[8]PODACI!D36 -> Dražen LEKO, dipl.ing.građ. G 3026
H42: OVLAŠTENI INŽENJER: | L42: =[8]PODACI!D36 -> Dražen LEKO, dipl.ing.građ. G 3026
H43: DIREKTOR | L43: =[8]PODACI!D38 -> Dražen LEKO, dipl.ing.građ.

Sheet TROŠKOVNIK-NASLOVNA
F1: INVESTITOR : | G1: =""&[8]PODACI!D3&", "&[8]PODACI!D4&", "&[8]PODACI!D5 -> SUVLASNICI VIŠESTAMBENE ZGRADE, Ante Starčevića 8, 23000 Zadar | Q1: ='NASLOVNICA TROŠKOVNIK'!L39 -> 69-24
F2: GRAĐEVINA : | G2: =[8]PODACI!D13 -> VIŠESTAMBENA ZGRADA (Po+P+14) | Q2: ='NASLOVNICA TROŠKOVNIK'!L40 -> 69-24-4
I3: =[8]PODACI!D16 -> k.č.br. 5710/1; k.o. Zadar
I4: ='NASLOVNICA TROŠKOVNIK'!L36 -> TROŠKOVNIK | R4: List:
I5: =[8]PODACI!D40 -> Slavonski Brod, travanj 2024.
A37: IV. TROŠKOVNIK
N71: Projektant:
M74: ='NASLOVNICA TROŠKOVNIK'!L41 -> Dražen LEKO, dipl.ing.građ. G 3026

Sheet Troškovnik-opći
F1: INVESTITOR : | G1: =""&[8]PODACI!D3&", "&[8]PODACI!D4&", "&[8]PODACI!D5 -> SUVLASNICI VIŠESTAMBENE ZGRADE, Ante Starčevića 8, 23000 Zadar | Q1: ='TROŠKOVNIK-NASLOVNA'!Q1 -> 69-24
F2: GRAĐEVINA : | G2: =[8]PODACI!D13 -> VIŠESTAMBENA ZGRADA (Po+P+14) | Q2: ='TROŠKOVNIK-NASLOVNA'!Q2 -> 69-24-4
I3: =[8]PODACI!D16 -> k.č.br. 5710/1; k.o. Zadar
I4: ='TROŠKOVNIK-NASLOVNA'!I4 -> TROŠKOVNIK | R4: List:
I5: =[8]PODACI!D40 -> Slavonski Brod, travanj 2024.
A6: OPĆI UVJETI UZ TROŠKOVNIK
A8: Izvođač izvodi radove prema Općim uvjetima natječaja, Glavnom i Izvedbenom projektu, ovom troškovniku te radioničkim nacrtima. Izvođač je prije početka bilo kakvih radova dužan proučiti projektnu dokumentaciju te u slučaju nejasnoća tražiti objašnjenje od voditelja projekta, projektanta, investitora i nadzora. Nepoznavanje projekta i ovog troškovnika neće se prihvatiti kao razlog za povećanje jediničnih cijena, povećanje količina i broja stavki troškovnika, kao ni konačne cijene izvedbe do pune funkcionalnosti građevine koja je predmet projekta i troškovnika. Stoga, nepoznavanje projekta i troškovnika neće se uzeti u obzir kao razlog umanjenja za stjecanje kvalitete pojedinih radova te greški u izvedbi.
A9: Podrazumijeva se da je izvođač upoznat s potpunim i nedvosmislenim informacijama o pristupu ljudi, opreme i strojeva konkretnom građevinskom zahvatu iz ovog projekta po pitanju ugradnje, skladištenja, manipulacije i montaže.
A10: Izvođač je dužan pridržavati se svih pozitivnih važećih zakona i propisa RH i to naročito Zakona o prostornom uređenju, Zakona o gradnji, Zakona o zaštiti na radu, Zakona o zaštiti od požara, tehničkih propisa, pravilnika i normi.
A11: Ukoliko opis pojedine stavke dovodi izvoditelja u nedoumicu o načinu izvedbe, treba pravovremeno tražiti objašnjenje od naručitelja.
A12: Ako tijekom gradnje dođe do promjena, treba prije početka rada tražiti suglasnost Investitora i nadzornog inženjera i sve to unijeti u građevinski dnevnik uz ovjeru nadzornog inženjera. Odnosno, sve izmjene trebaju biti ugovorene u skladu sa zakonom o javnoj nabavi. Sve više radnje do kojih dođe uslijed promjene načina ili opsega izvedbe, a nisu na spomenuti način utvrđene, upisane i ovjerene, neće se priznati u obračunu.
A13: Prije izrade ponude izvoditelj može obići i pregledati građevinu zbog ocjene njezinog građevinskog stanja, radova obuhvaćenih troškovnikom, uvjeta organizacije gradilišta, načina i mogućnosti pristupa građevini, mogućnosti zauzimanja javne površine, postave skele, osiguranja ulaza u građevinu i sl. Neovisno o tome je li izvoditelj obišao građevinu, Naručitelj će smatrati da je izvoditelj obišao i detaljno pregledao lokaciju (zonu obuhvata) i građevinu te je dobro upoznat sa svim uvjetima, faktorima i resursima u odnosu i u svezi s lokacijom ili onim koji mogu utjecati na izvršenje radova te da je na temelju navedenog podnio svoju ponudu. Stoga odabrani izvoditelj nema pravo zahtijevati povećanje cijene ili drugu naknadu, pozivajući se da u vrijeme davanja ponude nije bio upoznat s okolnostima vezanim uz lokaciju postojeće građevine.
A14: Prema tome, ponuđena cijena je konačna cijena za realizaciju pojedine troškovničke stavke i ne može se mijenjati.
A15: Bez obzira na vrstu pogodbe, izvoditelj je obvezan svakodnevno voditi građevinski dnevnik u dva primjerka, a također i građevinsku knjigu, koje će redovito kontrolirati i ovjeravati nadzorni inžinjer, kako bi se uvijek mogle ustanoviti stvarne količine izvedenih radova.
A16: Izvođač je dužan izvesti radove previđene projektom i troškovnikom do pune funkcionalnosti koju će utvrditi stručni nadzor i investitor kroz dokumentaciju i zapisnik.
A17: Izvođač je dužan čistiti gradilište redovito tijekom građenja, a na kraju treba detaljno (fino) očistiti zidove, podove, vrata, prozore, stijene, stakla i sve druge građevinske predmete, odnosno građevinske proizvode.
A18: Izvođač je dužan sav višak materijala deponirati na ovlaštenu gradsku deponiju udaljenosti do 10 km te sve uključiti u cijenu (utovar, prijevoz, istovar, trošak deponiranja i sl.). Gradska deponija znači zakonito predviđeno mjesto za deponiranje, odnosno mjesto koje zadovoljava sve potrebne uvjete za deponiranje određene vrste materijala. Po potrebi i nalogu naručitelja odnosno nadzornog inženjera, koristiti prostor za gradilišnu deponiju unutar parcele.
... A32: Poduzet će se mjere za smanjenje emisije buke, prašine i onečišćujućih tvari tijekom građevinskih radova, sukladno Zakonu o gradnji članku 133. Uređenje gradilišta koji zahtijeva da se na gradilištu predvide i provode mjere zaštite na radu te ostale mjere za zaštitu života i zdravlja ljudi u skladu s posebnim propisima, te kojima se onečišćenje zraka, tla i podzemnih voda te buka svodi na najmanju mjeru. Tako će se prilikom obnove zgrade radovi izvoditi samo u dnevnom razdoblju, svi rastresiti materijali će biti sklonjeni (prekrivanjem ili po potrebi vlaženjem) kako bi se spriječilo rasipanje tijekom kiše i vjetra, a sva uklanjanja i demontaže građevnih elemenata i materijala vršit će tehnikama koje sprečavaju širenje prašine i štetnih tvari na susjedne površine te će se kada je potrebno koristiti zaštitne ograde.
B35: =[8]PODACI!D40 -> Slavonski Brod, travanj 2024.
N38: Projektant:
M41: Dražen LEKO, dipl.ing.građ.

Sheet TROŠKOVNIK OBNOVE 
F1: INVESTITOR : | G1: =[9]PODACI!D3&" "&[9]PODACI!D4&" "&[9]PODACI!D5 -> SUVLASNICI NEKRETNINE Ante Starčevića 8 ZADAR | S1: 69-24
F3: GRAĐEVINA : | G3: =[9]PODACI!D13 -> VIŠESTAMBENA ZGRADA (Po+P+14) | S3: 69-24-4
I4: =[9]PODACI!D14 -> k.č. 5710/1; k.o. Zadar | S4: List br:
I5: ='[9]NASLOVNICA TROŠKOVNIK'!L37 -> TROŠKOVNIK
A9: Red. br. | C9: opis | M9: jdm | N9: kol. | P9: jed. cijena | R9: ukupna cijena
A10: 1. | C10: PRIPREMNI RADOVI I RADOVI UKLANJANJA | R10: =SUM(R12:T54) -> 0
A12: =A10 -> 1. | B12: 1 | C12: Postavljanje privremenih gradilišnih građevina Postavljanje privremenih gradilišnih građevina (baraka, kontejnera, kemijskih wc-a i sl.), postavljanje zaštitne ograde na za to potrebnim (predviđenim) mjestima, izrada i postavljanje ulazne table gradilišta, postavljanje znakova upozorenja, osiguranje gradilišta od ulaska neovlaštenih osoba i nakon završetka radnog vremena. Stavkom je obuhvaćeno i skladištenje predviđenih materijala. Obračun po kompletu izvedenih radova. | M12: kpl | N12: 1 | R12: =N12*P12 -> 0
A14: =A10 -> 1. | B14: =B12+1 -> 2 | C14: Demontaža svih postojećih vertikalnih oluka, diletacijskih i okapnih limova Demontaža svih postojećih vertikalnih oluka, diletacijskih i okapnih limova po vanjskom obodu zgrade i nad ventilacionim kanalima kako bi se mogla izvesti nova toplinska izolacija krova i vanjskih zidova. Stavka obuhvaća demontažu, utovar i odvoz materijala na gradsku deponiju udaljenosti do 20 km. Skela u posebnoj stavci. U cijenu uključiti sav potreban rad i sredstva za rad te sve mjere osiguranja. Obračun po m1 demontiranih limova. | M14: m1 | N14: 350 | R14: =N14*P14 -> 0
A16: =A10 -> 1. | B16: =B14+1 -> 3 | C16: Čišćenje ravnog krova Čišćenje ravnog krova od postojećeg kamenog oblutka u sloju debljine 3 cm. Stavka obuhvaća čišćenje i skladištenje materijala te ponovno vraćanje istog nakon izrade toplinske i hidroizolacije. Obračun po m2. U cijenu uključiti rad i sve mjere osiguranja. | M16: m2 | N16: 580 | R16: =N16*P16 -> 0
A18: =A10 -> 1. | B18: =B16+1 -> 4 | C18: Demontaža te ponovna montaža svih gromobranskih traka Demontaža te ponovna montaža svih gromobranskih traka na ravnom krovu komplet s betonskim nosačima kako bi se mogla izvesti toplinska i hidroizolacija krova. Prije skidanja gromobranskih traka napraviti snimanje postojećeg stanja na osnovu kojeg će se postaviti nova instalacija. Nakon postave kamena, postojeće gromobranske trake potrebno vratiti na pripadajuće mjesto uključivo sva spajanja i pričvršćivanja. U cijenu uključiti sav potreban rad i sredstva za rad te sve mjere osiguranja. Skela je u posebnoj stavci. Obračun po m1 gromobranskih traka. | M18: m1 | N18: 30 | R18: =N18*P18 -> 0
A20: =A16 -> 1. | B20: =B18+1 -> 5 | C20: Demontaža vanjskih i unutarnjih prozorskih klupčica Demontaža svih postojećih kamenih, limenih i plastičnih vanjskih prozorskih klupčica i unutarnjih ali samo na pozicijama na kojima se mijenja stolarija. Stavka uključuje demontažu i odvoz materijala na za to ovlaštenu deponiju udaljenosti do 20 km. Skela u posebnoj stavci. U cijenu uključiti sav potreban rad i sredstva za rad te sve mjere osiguranja. Obračun po m1 demontiranih klupčica.
C21: a) vanjske klupčice | M21: m1 | N21: 500 | R21: =N21*P21 -> 0
C22: b) unutarnje klupčice | M22: m1 | N22: 265 | R22: =N22*P22 -> 0
A24: =A10 -> 1. | B24: =B20+1 -> 6 | C24: Demontaža postojeće vanjske drvene stolarije i metalne bravarije Demontaža postojeće drvene stolarije i metalne bravarije koju je potrebno zamijeniti novom. Stavka uključuje demontažu stolarije i bravarije te odvoz šute, demontiranih prozora i vrata na za to ovlaštenu deponiju udaljenosti do 20 km. U cijenu uključiti sav potreban rad i sredstva za rad, potrebnu radnu skelu te sve mjere osiguranja. Obračun po komadu demontiranih vrata ili prozora. Prozori se sastoje od više krila.
C25: a) veličina do 3 m2 | M25: kom | N25: 119 | R25: =N25*P25 -> 0
C26: b) veličina od 3 - 5 m2 | M26: kom | N26: 11 | R26: =N26*P26 -> 0
C27: c) veličina preko 5 m2 | M27: kom | N27: 50 | R27: =N27*P27 -> 0
A29: 1. | B29: 7. | C29: Demontaža i ponovna montaža vanjskih jedinica klima uređaja Demontaža vanjskih jedinica klima uređaja i njihovih nosača radi izvedbe toplinske izolacije zidova. Klima uređaje demontirati, te ih uskladištiti u zatvoreni prostor do završetka izvedbe radova fasade, a postojeće nosače deponirati na deponiju. Demontirane vanjske klima jedinice uskladištiti na primjeren način - zaštititi od vanjskih utjecaja i čuvati od otuđivanja. Nakon završetka radova fasade, klima uređaje montirati na pripadajuće mjesto na nove nosače prilagođene novoj debljini fasade uključivo elektroinstalaterske radove i kompletan servis sustava za hlađenje i grijanje (čišćenje i punjenje klima jedinica odgovarajućim plinom R410 te puštanje u rad istih) od strane ovlaštenog servisera.
C30: U cijenu uračunati sva nova spojna i pričvrsna sredstva, potrebne tiple i vijke koji su prilagođeni novoj debljini fasade i nove cijevi za odvod kondenzata. Nove nosače ugraditi prije početka ljepljenja toplinske izolacije, a vanjske jedinice nakon izrade završnog sloja fasade. Prije demontaže klima uređaja provjeriti ispravnost svakog uređaja te o tome obavijestiti Nadzor. U slučaju da ponovno montirani klima uređaj ne radi ispravno sve troškove popravka i eventualne zamjene s novim uređajem snosi Izvođač radova. U cijenu uključiti rad, skladištenje materijala, potrebnu radnu skelu i sve mjere osiguranja. Obračun po komadu. | M30: kom | N30: 65 | R30: =N30*P30 -> 0
A32: =A12 -> 1. | B32: 8. | C32: Demontaža i ponovna montaža postojećih antena Demontaža i ponovna montaža postojećih antena na pročeljima zgrade i s ravnog krova. Stavka uključuje demontažu, skladištenje do završetka radova te ponovnu montažu istih na za to odgovarajuća mjesta ukoliko je potrebno. U cijenu uračunata i sva nova spojna i pričvrsna sredstva, sav potreban rad i sredstva za rad te skladištenje materijala i sve mjere osiguranja. Obračun po komadu. | M32: kom | N32: 10 | R32: =N32*P32 -> 0
A34: =A10 -> 1. | B34: 9. | C34: Demontaža i ponovna montaža postojećih rasvjetnih tijela na pročeljima zgrade Demontaža i ponovna montaža postojećih rasvjetnih tijela na pročeljima zgrade. Stavka uključuje demontažu, skladištenje do završetka radova te ponovnu montažu istih na za to odgovarajuća mjesta. Uključiti i elektroinstalaterske radove sva nova spojna i pričvrsna sredstva, potrebne tiple i vijke koji su prilagođeni novoj debljini fasade. Rasvjetna tijela i kablove zaštiti od oštećenja. U cijenu uključiti rad, skladištenje materijala i sve mjere osiguranja. Skela u posebnoj stavci. Obračun po komadu. | M34: kom | N34: 5 | R34: =N34*P34 -> 0
A36: =A10 -> 1. | B36: 10. | C36: Demontaža i ponovna montaža držača zastave Demontaža držača zastave na ulaznom pročelju u prizemlju zgrade. Stavka uključuje demontažu, AKZ zaštitu nosača (2 premaza) i bojenje završnom bojom (2 premaza), skladištenje do završetka radova te ponovnu montažu istog na za to odgovarajuće mjesto. U cijenu uključiti rad, skladištenje materijala i sve mjere osiguranja. Skela u posebnoj stavci. Obračun po komadu. | M36: kom | N36: 1 | R36: =N36*P36 -> 0
A38: =A12 -> 1. | B38: 11. | C38: Demontaža natpisne ploče Demontaža natpisne ploče koja se nalazi pored ulaza u zgradu. Ploča je kamena dimenzija cca 0,60 x 0,30 m. Stavka uključuje demontažu, odgovarajuće čišćenje, skladištenje do završetka radova te ponovnu montažu nakon izvedbe toplinske izolacije. Uključiti i sva nova pričvrsna sredstva. U cijenu uključiti rad, skladištenje materijala i sve mjere osiguranja. Skela u posebnoj stavci. Obračun po komadu. | M38: kom | N38: 1 | R38: =N38*P38 -> 0
A40: =A38 -> 1. | B40: 12. | C40: Demontaža kućnog broja i ploče s nazivom ulice Demontaža kućnog broja i ploče s nazivom ulice koje se nalazi pored ulaza u zgradu. Dimenzija kućnog broja cca 10x10 cm, ploča s nazivom ulice dimenzija cca20x50cm. Stavka uključuje demontažu, odgovarajuće čišćenje, skladištenje do završetka radova te ponovnu montažu nakon izvedbe toplinske izolacije. Uključiti i sva nova pričvrsna sredstva. U cijenu uključiti rad, skladištenje materijala i sve mjere osiguranja. Skela u posebnoj stavci. Obračun po komadu.
C41: a) kućni broj | M41: kom | N41: 1 | R41: =N41*P41 -> 0
C42: b) ploča s nazivom ulice | M42: kom | N42: 1 | R42: =N42*P42 -> 0
A44: 1. | B44: 13. | C44: Demontaža i ponovna montaža interfona Demontaža i ponovna montaža interfona u prizemlju zgrade od ulaznih vrata. Stavka uključuje demontažu, skladištenje do završetka radova te ponovnu montažu istog na za to odgovarajuće mjesto. Uključiti i elektroinstalaterske radove i sva nova spojna i pričvrsna sredstva. Interfon i kablove zaštiti od oštećenja. U cijenu uključiti rad, skladištenje materijala i sve mjere osiguranja. Skela je u posebnoj stavci. Obračun po komadu. | M44: kom | N44: 1 | R44: =N44*P44 -> 0
A46: 1. | B46: 14. | C46: Obijanje postojeće žbuke Obijanje postojeće žbuke na pročeljima zgrade debljine 1-3 cm koja je u lošem stanju na mjestima gdje je to potrebno. Žbuku treba obiti do čvrste podloge, a nakon toga otprašiti. Potrebnu površinu obijanja usuglasiti s Nadzornim inženjerom. Stavka obuhvaća sav potreban rad i sredstva za rad te odvoz šute na deponiju udaljenosti do 20 km. Skela u posebnoj stavci. Obračun po m2 stvarno obijene i odvežene šute. | M46: m2 | N46: 400 | R46: =N46*P46 -> 0
A48: =A50 -> 1. | B48: 15. | C48: Demontaža limenog pokrova iznad stubišta Demontaža i skidanje postojećeg pokrova od trapeznog lima s krova iznad stubišta sa sjevernog pročelja objekta, uključujući dotrajale krovne letve. Tijekom izvedbe radova moraju se osigurati sigurnosne mjere za korisnike građevine; mjere zaštite od padova, kiše, vjetrova i sl. Stavka uključuje demontažu, utovar i odvoz materijala na deponiju udaljenosti do 20 km. U cijenu uključiti rad, potrebnu radnu skelu i sve mjere osiguranja. Obračun po m2 demontirane površine. | M48: m2 | N48: 25 | R48: =N48*P48 -> 0
A50: =A10 -> 1. | B50: 16. | C50: Doprema, montaža, demontaža i otprema radne dizalice Doprema, montaža, demontaža i otprema radne dizalice s mogućnošću dizanja i spuštanja na visinu od 48 m za potrebe rekonstrukcije ravnog krova i ostalih radova. Radna platforma služi za dizanje i spuštanje potrebnog materijala, šute i dr. Obračun po komadu. | M50: kom | N50: 1 | R50: =N50*P50 -> 0
A52: 1. | B52: 17. | C52: Demontaža raznih metalnih dijelova Demontaža raznih metalnih dijelova na zidovima i krovovima. Stavka obuhvaća demontažu, iznošenje iz građevine, utovar i odvoz materijala na gradsku deponiju, troškove deponiranja u komunalnom poduzeću, te sav rad i sredstva za rad. Troškove deponiranja snosi izvođač Obračun po komadu demontiranog držača. EVANTUALNIM DOGOVOROM SA VLASNIKOM, NOSAČ SE MOŽE PREDATI ISTOM. | M52: kom | N52: 20 | R52: =N52*P52 -> 0
A54: 1. | B54: 18. | C54: Otprašivanje svih zidova i stropova Otprašivanje svih vanjskih zidova i stropova istaka-balkona, terasa, nadstrešnica iznad ulaza, nakon svih obijanja, a prije nanošenja impregnacije. Stavka obuhvaća sav potreban rad i sredstva za rad te potrebnu radnu skelu. Prilikom izvođenja radova obvezno zaštiti PVC stolariju koja se ne mijenja. Obračun po m2 stvarno oprašenih površina | M54: m2 | N54: 5900 | R54: =N54*P54 -> 0
A56: 2. | C56: IZOLATERSKI RADOVI | R56: =SUM(R59:T82) -> 0
C58: NEPROHODNI RAVNI KROV - mehanički učvršćen
A59: =A56 -> 2. | B59: 1. | C59: Dobava i izrada parne brane Dobava i izrada parne brane od sintetičke folije na bazi polietilena visoke gustoće, d=0,20 mm. Folija se slobodno polaže na podlogu i spaja samoljepljivom trakom. U cijenu uključiti sav potreban rad i materijal te sve mjere osiguranja. Obračun po tlocrtnoj površini po m2. | M59: m2 | N59: 580 | R59: =N59*P59 -> 0
A61: =A56 -> 2. | B61: 2. | C61: Dobava i ugradnja toplinske izolacije za ravni krov Dobava i ugradnja toplinske izolacije od tvrde kamene vune namjenjene za izolaciju ravnog neprohodnog krova ukupne debljine d=10 cm. Prilikom postavljanja izolacije pratiti postojeće padove ravnog krova. Tehničke karakteristike koje minimalno moraju ispunjavati izolacijski sustav su: klasa negorivosti - A1 i koeficijent toplinske provodljivosti - 0,035 W/mK.U cijenu uključiti sav potreban rad i materijal te sve mjere osiguranja. Obračun po m2. | M61: m2 | N61: 580 | R61: =N61*P61 -> 0
A63: =A56 -> 2. | B63: 3. | C63: Dobava materijala i izrada hidroizolacije na bazi TPO-a Dobava materijala i izrada hidroizolacije na bazi TPO-a - višeslojne sintetičke krovne mebrane armirane poliesterskom mrežicom, UV stabiliziranom, debljine 1,8 mm. Trake se polažu direktno na kamenu vunu odnosno geotekstil. Mehaničko pričvršćenje izvodi se nehrđajućim vijcima sa širokom podložnom pločicom od 8 kom/m2. Spojevi se obrađuju toplinskim ili kemijskim putem sa širinom spoja od min. 40 mm i preklopom traka min. 10 cm u skladu s propisanim normama od strane proizvođača trake. Hidroizolacija se na detaljima učvršćuje plastificiranim limovima istog proizvođača i hermetizira po potrebi poliuretanskim kitovima. Kvaliteta ugrađene hidroizolacije dokazuje se ispitivanjem vodenom probom u trajanju minimalno 24 sata, a predaje upisom u građevinski dnevnik. U cijenu uključiti sav potreban rad i materijal te sve mjere osiguranja. Obračun po tlocrtnoj površini po m2. | M63: m2 | N63: 580 | R63: =N63*P63 -> 0
A65: =A59 -> 2. | B65: 4. | C65: Dobava i ugradnja slivnika Dobava i ugradnja slivnika od tvrdog PVC-a promjera Ø 110-160 mm, s pripadajućom manžetom za priključak na hidroizolaciju uključujući brtvu i kišnu rešetku. Veličinu prilagoditi visini postojećih i novih slojeva izolacije ravnog neprohodnog krova. U cijenu uključiti sav potreban rad i materijal, transport, te sve mjere osiguranja. Obračun po komadu ugrađenog slivnika. | M65: kom | N65: 9 | R65: =N65*P65 -> 0
A67: =A61 -> 2. | B67: 5. | C67: Dobava i montaža odzračnika Dobava i montaža odzračnika promjera 200 mm, izrađenih od tvrdog PVC-a s mogućnošću demontaže. U cijenu uključitit sav potreban rad i materijal te sve mjere osiguranja. Obračun po komadu ugrađenog odzračnika. | M67: kom | N67: 9 | R67: =N67*P67 -> 0
A69: =A59 -> 2. | B69: 6. | C69: Dobava i postava vertikalne hidroizolacije Dobava i postava vertikalne hidroizolacije kao u stavci 2.3 na prodorima dimnjaka, ventilacionih kanala i strojarnice. Vertikalna hidroizolacija se podiže 40 cm iznad kote gotovog krova uz obod dimnjaka, ventilacionih kanala i strojarnice. U cijenu uključiti sav potreban rad i materijal, uključivo preklopi, te sve mjere osiguranja. Obračun po m1. | M69: m1 | N69: 360 | R69: =N69*P69 -> 0
A71: =A61 -> 2. | B71: 7. | C71: Dobava i postava vertikalne hidroizolacije Dobava i postava vertikalne hidroizolacije kao u stavci 2.6. oko odzračnika i raznih cijevi na ravnom krovu. Promjer cijevi od 20-40 cm. U cijenu uključiti sav potreban rad i materijal te sve mjere osiguranja. Obračun po komadu. | M71: kom | N71: 50 | R71: =N71*P71 -> 0
A73: =A61 -> 2. | B73: 8. | C73: Dobava izrada i postava okapnih profiliranih traka Dobava materijala, izrada i postava okapnih profiliranih traka od plastificiranog lima d=1,2 mm na koji se spaja horizontalna folija holkerima 50x50 mm. Limovi se učvršćuju udarnim tiplama na razmaku 15-25 cm. U cijenu uključiti sav potreban rad i materijal te sve mjere osiguranja. Obračun po m1.
C74: a) kutni učvršćujući lim (holker) r.š. 10 cm | M74: m1 | N74: 360 | R74: =N74*P74 -> 0
C75: b) okapnice r.š. do 25 cm | M75: m1 | N75: 120 | R75: =N75*P75 -> 0
C76: c) završna zidna letvica (putz-lajsna) r.š. 7 cm | M76: m1 | N76: 120 | R76: =N76*P76 -> 0
A78: =A63 -> 2. | B78: 9. | C78: Dobava i izvedba kitanja spoja Dobava i izvedba kitanja spoja zida i lima te eventualnih pukotina u zidu trajnoelastičnim kitom na bazi poliuretana uz prethodno čišćenje podloge od nevezanih čestica i nanošenje odgovarajućeg primer-a. U cijenu uključiti sav potreban rad i materijal te sve mjere osiguranja. Obračun po m1. | M78: m1 | N78: 150 | R78: =N78*P78 -> 0
A80: =A65 -> 2. | B80: 10. | C80: Dobava i postava geotekstila Dobava i postava razdjelnog i zaštitnog sloja netkanog tekstila (filc-geotekstil). Gustoča 300 g/m2, s preklopom od 15 cm u svrhu razdvajanja hidroizolacije i zaštitnog sloja - šljunka (riječni oblutak). U cijenu uključiti sav potreban rad i materijal te sve mjere osiguranja. Obračun po m2 tlocrtne površine. | M80: m2 | N80: 580 | R80: =N80*P80 -> 0
A82: =A69 -> 2. | B82: 11. | C82: Dobava i ugradnja riječnog oblutka Dobava i ugradnja riječnog oblutka veličine zrna 16-32 mm preko ranije postavljenog geotekstila i postojećeg kamena. Potrebna debljina ugradnje novog sloja je 2 cm. Ukupna visina oblutka posotjećeg i novog treba biti min 5cm. U cijenu uključiti sav potreban rad i materijal te sve mjere osiguranja. Obračun po m3 ugrađenog kamena. | M82: m3 | N82: 15 | R82: =N82*P82 -> 0
A84: 3. | C84: LIMARSKI RADOVI | R84: =SUM(R86:T102) -> 0
A86: =A84 -> 3. | B86: 1. | C86: Izrada i montaža aluminijskih plastificiranih prozorskih klupčica Izrada i montaža aluminijskih plastificiranih prozorskih klupčica u bijeloj boji RAL 9010 razvijene širine do 30 cm, debljine 2 mm s bočnim završecima. Klupčice postaviti odmah po završetku ljepljenja vanjske toplinske izolacije, a prije nanošenja ljepila i završnog sloja fasade uz dogovor s izvođačem fasaderskih radova. Ugradnju izvesti odgovarajućom poliuretanskom pjenom uključujući i sva potrebna silikoniranja spojeva. Klupčice moraju biti istaknute 4 cm u odnosu na završni sloj fasade. Sve dimenzije uzeti na licu mjesta. Stavka obuhvaća sav potreban rad i materijal. Skela je u posebnoj stavci. Obračun po m1 ugrađenih prozorskih klupčica. | M86: m1 | N86: 500 | R86: =N86*P86 -> 0
A88: =A84 -> 3. | B88: 2. | C88: Izrada i montaža okapnih limova na ravnom krovu Izrada i montaža okapnih limova na ravnom krovu po vanjskim rubovima zgrade. Lim je pocinčani bojani tamno crvene boje RAL 3003, debljine 0,55mm, r.š. 35 cm. Postavlja se na mjesto prethodno demontiranog lima. Sve dimenzije uzeti na licu mjesta. Stavka obuhvaća sav potreban rad i materijal. Skela u posebnoj stavci. Obračun po m1 ugrađenog okapnog lima. | M88: m1 | N88: 260 | R88: =N88*P88 -> 0
A90: =A84 -> 3. | B90: 3. | C90: Izrada i montaža okapnih limova nad ventilacionim kanalima i dimnjacima Izrada i montaža okapnih limova nad ventilacionim kanalima i dimnjacima. Lim je pocinčani bojani tamno crvene boje RAL 3003, debljine 0,55mm, r.š. 70 cm. Postavlja se na mjesto prethodno demontiranog lima. Sve dimenzije uzeti na licu mjesta. Stavka obuhvaća sav potreban rad i materijal. Skela u posebnoj stavci. Obračun po m1 ugrađenog okapnog lima. | M90: m1 | N90: 20 | R90: =N90*P90 -> 0
A92: =A84 -> 3. | B92: 4. | C92: Dobava, izrada i montaža vertikalnih oluka Izrada, doprema i montaža vertikalnih oluka kružnog presjeka (kao postojeći). Odvodne cijevi učvršćene su na zid odgovarajućim obujmicama. Obujmice dolaze na razmaku od 1,00 m. Vertikalne odvodne cijevi su kružnog oblika Ø 110-125 mm i pocinčanog bojanog lima (boja po izboru investitora) deb. 0,55 mm. Stavka obuhvaća i izradu koljena ne mjestima gdje je potrebno, te sabirne kotliće na spoju prodora vode kroz atiku ravnog krova i vertikalnog oluka, potrebnu skelu, sav potrebni spojni materijal, sav rad i sredstva za rad. | M92: m1 | N92: 30 | R92: =N92*P92 -> 0
A94: =A84 -> 3. | B94: 5. | C94: Dobava i ugradnja limenih poklopaca Dobava i ugradnja limenih poklopaca koji se ugrađuju umjesto postojećih kao zaštita za metalne držače. Poklopci (kape) su dimenzija 20x10 cm. Lim je pocinčani bojani tamnocrvene boje RAL 3003, debljine 0,55 mm. Stavka obuhvaća sav potreban rad i materijal. Skela u posebnoj stavci. Obračun po komadu ugrađene kape. | M94: kom | N94: 50 | R94: =N94*P94 -> 0
A96: =A94 -> 3. | B96: 6. | C96: Izrada i montaža limenog pokrova kosog krova iznad stubišta Izrada, doprema i montaža limenog pokrova kosog krova na sjevernom pročelju objekta iznad stubišta. Novi pokrov kosog krova izvesti od trapeznog lima s filcom. Lim je pocinčani, bojani tamno crvene boje RAL 3003, debljine 0,55 mm. Sve dimenzije uzeti na licu mjesta. Stavka obuhvaća sav potreban rad i materijal. Skela je u posebnoj stavci. Obračun po m2 površine kosog krova i nadstrešnice. | M96: m2 | N96: 15 | R96: =N96*P96 -> 0
A98: 3. | B98: 7. | C98: Izrada i montaža okapnih limova na zabatnim zidovima Izrada i montaža okapnih limova na zabatnim zidovima. Lim je pocinčani bojani debljine 0,55 mm, r.š. do 40-60 cm. Postavlja se na mjesto postojećih demontiranih limova. Sve dimenzije uzeti na licu mjesta. Stavka obuhvaća sav potreban rad i materijal te potrebnu radnu skelu. Obračun po m1 ugrađenog okapnog lima. | M98: m1 | N98: 10 | R98: =N98*P98 -> 0
A100: 3. | B100: 8. | C100: Izrada i montaža vjetar lasjni na zabatnim zidovima Izrada i montaža vjetar lasjni na zabatnim zidovima na krovu iznad stubišta. Lim je pocinčani bojani debljine 0,55 mm, r.š. do 30-45 cm. Sve dimenzije uzeti na licu mjesta. Stavka obuhvaća sav potreban rad i materijal te potrebnu radnu skelu. Obračun po m1 ugrađenih vjetar lajsni. | M100: m1 | N100: 10 | R100: =N100*P100 -> 0
A102: 3. | B102: 9. | C102: Dobava, izrada i montaža limenih kapa za dimnjake dimenzije 65x135cm Izrada i montaža limenih kapa dimenzije 65x135cm nad dimnjacima dimenzije 55x125cm. Lim je pocinčani bojani, boja iz RAL ton karte prema izboru Investitora, debljine 0,55mm, r.š. 100 cm. Postavlja se na mjesto prethodno demontiranih starih limenih kapa dimnjaka. Sve dimenzije uzeti na licu mjesta. Stavka obuhvaća sav potreban rad i materijal. Skela u posebnoj stavci. Obračun po m1 ugrađenog okapnog lima. | M102: kom | N102: 7 | R102: =N102*P102 -> 0
A104: 4. | C104: ELEKTRIČARSKI RADOVI | R104: =SUM(R106:T108) -> 0
A106: =A104 -> 4. | B106: 1. | C106: Ispitivanje instalacije sustava zaštite od djelovanja munje Ispitivanje, mjerenje i izdavanje atesta za gromobransku instalaciju. Ispitivanje instalacije sustava zaštite od djelovanja munje nakon rekonstrukcije te izdavanje protokola i izrada revizione knjige ispitivanja zaštite od munje. Ispitivanje instalacije mora obaviti ovlaštena osoba. U cijenu uključiti sav potreban rad i materijal. Obračun po kompletu. U cijenu uključiti sav potreban rad i materijal. Obračun po komadu. | M106: kpl | N106: 1 | R106: =N106*P106 -> 0
A108: 4. | B108: 2. | C108: Izrada i montaža novih mjernih mjesta za uzemljenje Izrada i montaža novih mjernih mjesta za uzemljenje na pročeljima zgrade na mjestima gdje su se već nalazili postojeći. Izvođenje izvršiti u dogovoru s fasaderskim radovima. Stavka obuhvaća sav potreban rad i materijal za izradu mjernog mjesta te potrebnu radnu skelu. Obračun po komadu. | M108: kom | N108: 8 | R108: =N108*P108 -> 0
A110: 5. | C110: STOLARSKI RADOVI | R110: =SUM(R115:T127) -> 0
A112: =$A$110 -> 5. | B112: 1 | C112: Ugradnja PVC stolarije PVC stolariju izvesti od PVC profila s prekinutim toplinskim mostom, brtvljenu sa svim fazonskim komadima. PVC profili moraju imati mogućnost skupljanja i drenaže kondenzata, s vanjskom zaštitom od sunca (roletama). Ustakljenje izvesti trostrukim IZO staklom (4/16/4/16/4) s plinovitim punjenjem, low-e premazom i trostrukim brtvljenjem s definiranim maximalnim koeficijentom prolaska topline za cijeli prozor Uw=1,00 W/m2K, dok je koeficijent za staklo jednak Ug=0,70 W/m2K. Ugradnju stolarije izvoditi isključivo RAL načinom ugradnje gdje se koriste posebne brtvene trake namjenjene isključivo za takav način brtvljenja.Boja profila stolarije i roleta RAL9010-bijela prema RAL ton karti u dogovoru s Investitorom i Nadzornim Inženjerom.
C113: U cijenu uključiti izradu, transport do gradilišta, ugradnju, sav potreban okov (uključivo kvake, cilindre, brave, ključeve, i dr.), okov za otklopna krila (komplet okov za otklopno prozorsko krilo - ručka s kutnim prijenosnikom, škare, šipka (duljina za otvaranje na visini od 150cm od poda) i pokrovni profil), komarnike na otklopno-zaokretna, zaokretna krila i oktlopna, pumpu i elektrootvarač za glavna ulazna vrata u zgradu, brtvljenje za RAL ugradnju, trajnoelastični kit, poliuretansku pjenu, vijke i dr. te potrebnu radnu skelu. Sve spojeve stolarije i unutarnje klupice brtviti trajnoelastičnim kitom, a spojeve stolarije sa špaletama brtviti akrilnim kitom. Ispod donjeg horizontalnog okvira ugrađuje se podprozorski profil za ugradnju vanjske prozorske klupice, a ispod njega slijepi doprozornik zbog ugradnje donje vanjske špalete (mineralna vuna d=2 cm). Sve stavke izraditi prema shemama stolarije u grafičkim prilozima, te priložiti dokaze o kvaliteti ugrađenih materijala (ateste za prozore, fasadne stijene i vrata). Prije početka radova Izvođač je dužan dostaviti svu potrebnu atestnu dokumentaciju za vanjsku stolariju. Također napraviti izmjeru na licu mjesta. Sve eventualne promjene dogovoriti sa Nadzornim inženjerom i Investitorom. Sve dimenzije uzeti na licu mjesta. Obračun po komadu ugrađene pozicije.
C114: NAPOMENA: Prilikom izvođenja fasaderskih radova, obratiti pažnju na zaštitu PVC profila i prozorskih stakala od ljepila, žbuke i sl. Nakon završetka radova, a prije demontaže skele, Izvođač je dužan očistiti kompletnu vanjsku stolariju. Sva stolarija oštećena prilikom radova i čišćenja (oštećena strugajem) neće biti priznata. Prilikom izbijanja stolarskih stavki strogo paziti na postojeće unutarnje klupčice kako se ne bi oštetile. U slučaju da dođe do oštećenja klupčice, izvođač sam snosi trošak popravka iste.
C115: POZ 1 - ulazna vrata s pumpom i elektrootvaračem 300x245cm | M115: kom | N115: 1 | R115: =N115*P115 -> 0
C116: POZ 2 - prozor (bez roleta) sa slijepim štokovima 280+2*10x120cm | M116: kom | N116: 11 | R116: =N116*P116 -> 0
C117: POZ 3 - prozor (s duplom roletom) 140x130+20cm | M117: kom | N117: 20 | R117: =N117*P117 -> 0
C118: POZ 3a- prozor (s duplom roletom) sa slijepim štokom 130+10x130+20cm | M118: kom | N118: 12 | R118: =N118*P118 -> 0
C119: POZ 4 - prozor (s duplom roletom) 180x130+20cm | M119: kom | N119: 62 | R119: =N119*P119 -> 0
C120: POZ 5 - balkonska stijena (s duplom roletom) 200x245+20 cm | M120: kom | N120: 21 | R120: =N120*P120 -> 0
C121: POZ 6 - balkonska stijene (s duplom roletom) sa slijepim štokom 190+10x245+20cm | M121: kom | N121: 12 | R121: =N121*P121 -> 0
C122: POZ 6a - balkonska stijena (s duplom roletom) 200x245+20 cm | M122: kom | N122: 16 | R122: =N122*P122 -> 0
C123: POZ 7 - balkonska vrata (s roletom) sa slijepm štokom 90+10x245+20 cm | M123: kom | N123: 20 | R123: =N123*P123 -> 0
C124: POZ 8 - puna vrata 100x210 cm | M124: kom | N124: 2 | R124: =N124*P124 -> 0
C125: POZ 9 - prozor 100x100 cm | M125: kom | N125: 3 | R125: =N125*P125 -> 0
A127: =A110 -> 5. | B127: 2 | C127: Dobava i montaža unutarnjih PVC prozorskih klupčica Dobava i montaža unutarnjih PVC prozorskih klupčica u bijeloj boji širine do 25 cm, debljine 2 cm s bočnim završecima. Klupčice postaviti odmah po završetku ugradnje PVC stolarije. Ugradnju izvesti odgovarajućom poliuretanskom pjenom uključujući i sva potrebna silikoniranja spojeva, popravak donje špalete prozora ispod klupčice, te bojanje zida ispod klupčice nakon popravka. Klupčice moraju biti istaknute min. 2 cm u odnosu na unutarnji zid. Sve dimenzije uzeti na licu mjesta. U cijenu uključiti rad, potrebnu radnu skelu i sve mjere osiguranja. | M127: m1 | N127: 265 | R127: =N127*P127 -> 0
A129: 6. | C129: ZIDARSKI RADOVI | R129: =SUM(R134:T136) -> 0
C132: NAPOMENA: Prilikom izvođenja radova na obradi unutarnjih špaleta obavezno zaštititi sve stolarske stavke.
A134: =A129 -> 6. | B134: 1. | C134: Žbukanje vapneno-cementnom žbukom Žbukanje vapneno-cementnom žbukom svih obijenih dijelova zidova, stropova i stupova debljine 1-3 cm prije izrade toplinske fasade. Stavka obuhvaća sav potreban rad i materijal. Skela u posebnoj stavci. Obračun po m2 ožbukane površine. | M134: m2 | N134: =N46 -> 400 | R134: =N134*P134 -> 0
A136: =A134 -> 6. | B136: 2. | C136: Unutarnja obrada špaleta Zidarski i ličilački popravak tj. obrada špaleta nakon zamjene postojeće stolarije novom stolarijom. Obradu izvesti vapneno-cementnom žbukom ili GK pločama, te nakon faze sušenja gletanjem i završnim bojanjem bijelom bojom. Obrada podrazumijeva manje i veće zahvate ovisno o oštećenju prilikom demontaže drvene stolarije, te eventualno dodatno obijanje špalete, ukoliko je ista u lošem stanju. Stavka obuhvaća sav potreban rad i materijal. Obračun po m1 obrađene špalete. | M136: m1 | N136: 1350 | R136: =N136*P136 -> 0
A138: 7. | C138: FASADERSKI RADOVI | R138: =SUM(R140:T159) -> 0
A140: =A138 -> 7. | B140: 1. | C140: Tunelska skela Doprema, montaža, demontaža i otprema tunelske skele - prolaza za pješake, izrađenog od bešavnih cijevi i potrebnih spojnih elemenata, sa svim potrebnim ukrućenjima i sidrenjima. Tunelska skela se izvodi na sjeverozapadnom (glavni ulaz u građevinu ) pročelju. Pokrov tunela izraditi od fosni položenih jedne do druge, a preko njih postaviti bitumensku ljepenku s preklopom minimalno 10 cm ili alternativno PVC foliju. Prije izvedbe skele izvođač je dužan izraditi projekt skele što je u cijeni stavke. Obračun se vrši po m2 tlocrtne površine skele. | M140: m2 | N140: 70 | R140: =N140*P140 -> 0
A142: =A138 -> 7. | B142: 2. | C142: Cijevne fasadne skele Doprema, montaža i demontaža po završetku svih radova cijevne fasadne skele. Radna skela po cijelom opsegu građevine u širini 70-90 cm. Svi radovi oko postave, razne preinake (prepravci) u svrhu obnove pročelja i demontaža pročeljne skele uključeni su u jediničnu cijenu. Skelu treba postaviti tako da se nesmetano može pristupiti svim pročeljnim elementima. Svi prepravci skele za radove obnove trebaju se uključiti u cijenu. Skela mora biti propisno popođena i ukrućena prema svim važećim propisima zaštite na radu i hrvatskim normama, a sigurna za sve prolaznike. Skelu je potrebno tako izvesti da omogući nesmetan ulaz u građevinu. Skela mora biti opremljena zaštitnom jutom, penjalicama unutar skele, ogradom te zaštitnim krovom na gornjoj etaži radi kontinuirane izvedbe radova. Oslanjanje skele izvesti na čvrstoj podlozi, sa svim potrebnim ukrućenjima, podnicama, Ijestvama za prelazak sa jedne radne etaže na drugu, zaštitom podnica od pada materijala i alata, leđobranima i sl. Sve u skladu s propisima zaštite na radu. Prije izvedbe skele izvođač je dužan izraditi projekt skele što je u cijeni stavke. Obračun po m2 postavljene skele s uključenim svim konzolnim dijelovima. | M142: m2 | N142: 6000 | R142: =N142*P142 -> 0
A144: =A138 -> 7. | B144: 3. | C144: Impregnacija svih fasadnih površina Impregnacija svih fasadnih površina sredstvom za dubinsko učvršćivanje podloge (SN veza) prije postave toplinske izolacije. Stavka podrazumjeva nabavu, dobavu i ugradnju potrebnog materijala, zaštitu stolarije i bravarije, uz sav potreban rad i sredstva za rad. Skela u posebnoj stavci. Obračun po m2 impregnirane površine. | M144: m2 | N144: =SUM(N149:O151) -> 5900 | R144: =N144*P144 -> 0
A146: =A138 -> 7. | B146: 4. | C146: Izrada ETICS fasadnog sustava od kamene mineralne vune Izrada ETICS fasadnog sustava od ploča kamene mineralne vune sa svim potrebnim međuslojevima i materijalom za pričvršćenje prema HRN EN 13499 i 13500. Fasadni sustav se izvodi u svemu prema tehničkoj uputi i uz kontrolu tehnologa fasadnog sustava. Potrebna garancija na fasadni sustav iznosi 10 godina.
C147: Stavka obuhvaća izradu ETICS sustava prema uputi proizvođača, sve pripreme, dobavu materijala; kamena mineralna vuna d=10 cm za zidove koji graniče s grijanim prostorom i stropove u prizemlju zgrade, kamena mineralna vuna debljine 5 cm za zidove koji ne graniče s grijanim prostorom, kamena vuna debljine 2-3 cm za obradu špaleta oko prozora, mineralno fasadno ljepilo, armirajuću staklenu mrežicu, pričvrsnice za armirani beton i pričvrsnice za porobeton, pocinčane sokl profile jednake širine kao lamele pričvršćene pričvrsnicima za zid, PVC kutnike za rubove i okapne profile za balkone i loggie. Završna dekorativna obrada - silikatna žbuka obračunata u posebnoj stavci. U cijenu je uključena OBVEZNA zaštita vrata, prozora, prozorskih klupčica i dr. do potpunog završetka fasade. Obračun po m2 postavljene fasade.
C148: Tehničke karakteristike koje mora ispunjavati izolacijski sustav su: - klasa negorivosti (reakcija na požar) HRN EN 13501:2012 ili jedankovrijedan = A1 - koeficijent toplinske provodljivosti HRN EN 12667:2002 ili jedankovrijedan = 0,035 W/mK
C149: zid: kamena mineralna vuna d=10 cm | M149: m2 | N149: 5100 | R149: =N149*P149 -> 0
C150: zid: kamena mineralna vuna d=5 cm | M150: m2 | N150: 700 | R150: =N150*P150 -> 0
C151: zid: kamena mineralna vuna d=2 cm | M151: m2 | N151: 100 | R151: =N151*P151 -> 0
A153: =A138 -> 7. | B153: 5. | C153: Izravnavanje i učvršćivanje svih podloga koje se neće izvoditi toplinskom izolacijom Izravnavanje i učvršćivanje svih podloga koje se neće izvoditi toplinskom izolacijom na način da se armirajuća staklena mrežica postavi u sloj cementnog fleksibilnog ljepila. Nakon minimalno 24 sata sušenja potrebno je podlogu izravnati s drugim slojem cementnog fleksibilnog ljepila. Obrade na ovaj način odraditi na svim stropovima loggia i balkona, ogradnim zidovima na ravnom krovu (samo unutarnji dijelovi), te na svim dimnjacima i ventilacionim kanalima. Površina mora biti pripremljena za završni sloj. Stavka podrazumijeva sav potreban rad i materijal. Skela u posebnoj stavci. Obračun po m2 površine. | M153: m2 | N153: 550 | R153: =N153*P153 -> 0
A155: =A138 -> 7. | B155: 6. | C155: Izvedba završne dekorativne žbuke Izvedba završne dekorativne silikatno-silikonske žbuke na svim zidovima i stropovima svih etaža granulacije 3 mm u max. 3 kombinacije po izboru Investitora. Prije izvedbe završne dekorativne žbuke podlogu je potrebno impregnirati temeljnim premazom minimalno 24 sata prije nanošenja završnog sloja. Stavka podrazumjeva nabavu, dobavu i ugradnju potrebnog materijala, zaštitu stolarije, limarije i bravarije, uz sav potreban rad i sredstva za rad. Skela je u posebnoj stavci. Obračun po m2 postavljene žbuke. | M155: m2 | N155: =N149+N150+N153+N151 -> 6450 | R155: =N155*P155 -> 0
A157: 7. | B157: 7. | C157: Pranje kulira vodom pod pritiskom Pranje dekorativnog kulira vodom pod pritiskom nakon svih obijanja, a prije nanošenja antigrafitnog premaza. Stavka obuhvaća sav potreban rad i sredstva za rad. Skela u posebnoj stavci. Prilikom izvođenja radova obvezno zaštiti svu stolariju. Obračun po m2. | M157: m2 | N157: 200 | R157: =N157*P157 -> 0
A159: =A138 -> 7. | B159: 8. | C159: Antigrafitni premaz dekorativnog kulira Temeljito nanošenje antigrafitnog premaza s valjkom od mikrovlakana prema uputama proizvođača na sva pročelja na postojeći kulir nakon pranja istog. Premaz se nanosi nakon svih radova koji se izvode na pročelju na podlogu kulira koja mora biti u potpunosti pripremljena, oprana prije nanosa premaza. Stavka podrazumjeva rad, materijal i sredstva potrebna za rad. Obračun po m2 premazane površine dekorativnog kulira. | M159: m2 | N159: 200 | R159: =N159*P159 -> 0
A161: 8. | C161: LIČILAČKI RADOVI | R161: =SUM(R163:T173) -> 0
A163: =A161 -> 8. | B163: 1. | C163: Sanacija postojećih metalnih ograda Sanacija postojećih metalnih ograda na loggiama i balkonima na način da se izvede čišćenje odnosno brušenje zahrđanih dijelova. Visina ograde 100 cm. Stavka podrazumijeva obostranu akz zaštitu, dva premaza temeljne zaštitne boje i dva premaza završne boje. Boja po izboru Investitora. U cijenu uključiti rad, materijal i sve mjere osiguranja. Skela je u posebnoj stavci. Obračun po m2 obojane metalne ograde. | M163: m2 | N163: 300 | R163: =N163*P163 -> 0
A165: 8. | B165: 2 | C165: Sanacija postojećih ventilacijskih otvora na podrumu Otvore sanirati na način da se izvede čišćenje odgovarajućom metodom, odnosno brušenje zahrđalih dijelova, izvedba AKZ zaštitu, dva premaza temeljne zaštitne boje i dva premaza završne boje. Ventilacijski otvori su metalni dimenzije cca 120x70cm. U cijenu uključiti rad, sredstva za rad, materijal, potrebnu radnu skelu i sve mjere osiguranja. Obračun po komadu. | M165: kom | N165: 1 | R165: =N165*P165 -> 0
A167: 8. | B167: 3 | C167: Sanacija postojećih vrata podruma Vrata podruma na južnom pročelju dimenzije cca 200x360cm i 200+160x360+280 sanirati na način da se izvede čišćenje odgovarajućom metodom, odnosno brušenje zahrđalih dijelova, izvedba AKZ zaštitu, dva premaza temeljne zaštitne boje i dva premaza završne boje u boji prema RAL ton karti prema odabiru Investitora . Popravak izvesti do potpune funkcionalnosti: demontirati sve kvake, okove, brtve i sl. koji nisu u funkciji tj. koji su u lošem stanju te zamijeniti novim, što sličnijim. U cijenu uključiti rad, sredstva za rad, materijal, potrebnu radnu skelu i sve mjere osiguranja. Obračun po komadu.
C168: vrata dimenzija 200 x360 cm | M168: kom | N168: 1 | R168: =N168*P168 -> 0
...

Sheet STROJARSKI 
B1: TROŠKOVNIK ENERGETSKE OBNOVE KOTLOV.
B2: POSTRO. S PRIKLJUČKOM NA JAVNU INFRAST.
B3: PRIR. PLINA ZA VIŠESTAMBENE ZGRADE
B4: ANTE STARČEVIĆA 8, ZADAR
A6: R.br. | B6: OPIS | C6: J.M. | D6: KOL. | E6: CIJENA | F6: UKUPNO CIJENA
A8: A | B8: Građevinski dio
A10: 1. | B10: Iskop zemljišta za MRS i pl. bojlere IV-V kateg. U širokom otkopu
B11: Materijal iskopa utovariti u vozilo i odvesti na gradsku deponiju
B12: U cijenu uključena naknada deponije. | C12: m3 | D12: 8 | F12: =D12*E12 -> 0
A14: 2. | B14: Šalovanje i armiranje armaturom, mrežom Q335 te betoniranje
B15: betonom MB-30 betonske ploče | C15: m3 | D15: 8 | F15: =D15*E15 -> 0
A17: 3. | B17: Propilavanje asfalta prije iskopa kanala te iskop kanala presjeka
B18: 80 x 120 cm, duljine 30m. Dio materijala od iskopa odnjeti na
B19: gradsku deponiju i asvalt. U cijenu uključena naknada deponije. | C19: m3 | D19: 32 | F19: =D19*E19 -> 0
A21: 4. | B21: Nasipavanje posteljice tucanikom 0-4 mm u sloju 30 cm.
B22: Postaviti detektorsku traku za plin | C22: m | D22: 32 | F22: =D22*E22 -> 0
A24: 5. | B24: Probijanje zidova i spajanje na dimnjak | C24: kol | D24: 2 | F24: =D24*E24 -> 0
A26: 6. | B26: Dobava i postava tipske montažne panel ograde tip Betafence
B27: Nylofor 3D u tamno zelenoj boji visine 2,5m s vratima
B28: i cilindar bravom od pocinčanog profila i ispunom od žičanog
B29: pletiva dim. 100 x 200 za plinske bojlere | C29: m2 | D29: 40 | F29: =D29*E29 -> 0
B31: Ukupno A | F31: =SUM(F11:F29) -> 0
A33: B | B33: MRS i plinovod
A35: 7. | B35: Mjerno regulacijska stanica
B36: Pu=2-5 bar, Piz=25 mbar, Vmax=100 m3/h
B37: s korek. Temp. I tlaka, komplet s ormarom i ključem | C37: kpl | D37: 1 | F37: =D37*E37 -> 0
A39: 8. | B39: Čelična bešavna cijev
B40: (Stavka obuhvaća sve potrebne spojnice, redukcije,
B41: fitinge i potrebni pričvrsni i ovjesni materijal s izolacijom min.
B42: 50 mm i zaštitnim limom)
B43: DN125, 133 x 4 | C43: m | D43: 120 | F43: =D43*E43 -> 0
B44: DN100, 114,3 x 3,6 | C44: m | D44: 120 | F44: =D44*E44 -> 0
B45: DN80, 88,9 x 3,2 | C45: m | F45: =D45*E45 -> 0
B46: DN50, 60,3 x 2,9 | C46: m | D46: 4 | F46: =D46*E46 -> 0
B47: DN40, 48,3 x 2,6 | C47: m | D47: 3 | F47: =D47*E47 -> 0
B48: DN32, 42,4 x 2,6 | C48: m | D48: 3 | F48: =D48*E48 -> 0
B49: DN25, 33,7 x 2,6 | C49: m | D49: 3 | F49: =D49*E49 -> 0
B50: DN20, 26,4 x 2,6 | C50: m | F50: =D50*E50 -> 0
A52: 9. | B52: Plinski zaporni ventil
B53: DN100-prirubnički | C53: kom | D53: 2 | F53: =D53*E53 -> 0
B54: DN80-prirubnički | C54: kom | F54: =D54*E54 -> 0
B55: DN40 | C55: kom | F55: =D55*E55 -> 0
B56: DN32 | C56: kom | F56: =D56*E56 -> 0
B57: DN25 | C57: kom | D57: 2 | F57: =D57*E57 -> 0
A59: 10. | B59: Ventil s termoosiguranjem
B60: DN20 | C60: kom | D60: 0 | F60: =D60*E60 -> 0
A62: 11. | B62: Plinska cijev PE100, SDR17
B63: PE100 D110 x 6,6 | C63: m | D63: 10 | F63: =D63*E63 -> 0
A65: 12. | B65: Elektro koljeno PE100, SDR11
B66: PE100 D110/90° | C66: kom | D66: 3 | F66: =D66*E66 -> 0
A68: 13. | B68: Prijelazni komad ČE100/PE110 | C68: kom | D68: 2 | F68: =D68*E68 -> 0
A70: 14. | B70: Mjerilo za plin s korektorima | C70: kom | D70: 1
A72: 15. | B72: Vatrogasna sredstva i oznake za plin
B73: aparat S-9 | C73: kom | D73: 1 | F73: =D73*E73 -> 0
B74: CO2, 5 kg | C74: kom | D74: 1 | F74: =D74*E74 -> 0
B75: oznake za plin. kotlovnicu | C75: kom | D75: 1 | F75: =D75*E75 -> 0
A77: 16. | B77: Nosači cijevovoda | C77: kg | D77: 20 | F77: =D77*E77 -> 0
A79: 17. | B79: Montaža opreme cijevovoda i ostalog potrebnog mater. | C79: kpl | D79: 1 | F79: =D79*E79 -> 0
A81: 18. | B81: Razni brtveni materijal DIN2527, klingerit i dr. | C81: kpl | D81: 1 | F81: =D81*E81 -> 0
B82: sitni materijal, elektrode i dr.
A84: 19. | B84: Antikorozivna zaštita nadzemnog plinovoda.
B85: Cijevi očistiti od hrđe, zatim premazati dva sloja
B86: temeljne boje i dva sloja zaštitne žute boje | C86: kpl | D86: 1 | F86: =D86*E86 -> 0
A88: 20. | B88: Ispitivanje plinovoda i druge opreme na čvrtoću i
B89: nepropusnost prema HSPU 600 i HSPU-P-601.111 | C89: kpl | D89: 1 | F89: =D89*E89 -> 0
B91: Ukupno B | F91: =SUM(F37:F89) -> 0
A93: C | B93: Kaskadna konden. Vanjska plinska kotlovnica - dobava i ugradnja
A95: 21. | B95: Plinska kasakdna kondenzacijska kotlovnica s visokom energ.
B96: učinkovitosti snage 1100 kW za temp. vode 50/30 i 450 kW
B97: S visokom iskoristivosti dimnih plinova 9oC iznad temp.
B98: povratne vode. Maksimalni manometarski tlak izlaznih plinova
B99: 500 Pa. | C99: kpl | D99: 2 | F99: =D99*E99 -> 0
A101: 22. | B101: Master ploča sa sijepom prirubnicom i vanj. osjet. | C101: kom | D101: 1 | F101: =D101*E101 -> 0
A103: 23. | B103: Daljinsko upravljanje | C103: kom | D103: 1 | F103: =SUM(D103*E103) -> 0
A105: 24. | B105: Neutralizator kondenz. do 1250kW | C105: kom | D105: 1 | F105: =D105*E105 -> 0
A107: 25. | B107: Hidraulički separator | C107: kom | D107: 1 | F107: =D107*E107 -> 0
A109: 26. | B109: Pločasti izmjenjivač | C109: kom | D109: 1 | F109: =SUM(D109*E109) -> 0
A111: 27. | B111: Dimnjak kratki | C111: kpl | D111: 1 | F111: =SUM(D111*E111) -> 0
A113: 28. | B113: Dobava i ugradnja toplinskih vodova DN125 dužine 66 m s
B114: izolacijom debljine 50 mm i zaštitnim limom od kotlovnice
B115: do glavnog razdjeljnika s filtrom, zapornom i mjernom armaturom | C115: m | D115: 66 | F115: =D115*E115 -> 0
A117: 29. | B117: Cirkulacijska pumpa 50m3/h, 80-90, motor s frekventnom regul. | C117: kom | D117: 1 | F117: =D117*E117 -> 0
A119: 30. | B119: Ekspanzijska posuda 60 l, sa sigurnosnom grupom | C119: kom | D119: 2 | F119: =D119*E119 -> 0
A121: 31. | B121: Dobava i ugradnja gromobranska traka 25 x 4 mm, s poveznicama | C121: m | D121: 50 | F121: =D121*E121 -> 0
A123: 32. | B123: Elektro spajanje s upravljanjem i ugradnjom | C123: kpl | D123: 1 | F123: =D123*E123 -> 0
A125: 33. | B125: Glikol | C125: lit. | D125: 100 | F125: =D125*E125 -> 0
A127: 34. | B127: Ventil za vodu s prirubnicom DN125 | C127: kom | D127: 8 | F127: =D127*E127 -> 0
A129: 35. | B129: Manometar 6 bara fi 63 | C129: kom | D129: 4 | F129: =D129*E129 -> 0
A131: 36. | B131: Termometar 0-100 OC | C131: kom | D131: 4 | F131: =D131*E131 -> 0
A133: 37. | F133: =D133*E133 -> 0
A135: 38. | B135: Standardna visokoučinska pumpa kao Willo yonos Maxo-z 65/0,5 PN5/10 | C135: kom | D135: 1 | F135: =D135*E135 -> 0
A137: 39. | B137: Nepovratni ventil DN125 | C137: kom | D137: 2 | F137: =D137*E137 -> 0
A139: 40. | B139: Troškovi proba i balansiranja | C139: kpl | D139: 1 | F139: =D139*E139 -> 0
A141: 41. | B141: Ručni balansni ventil DN 80 | C141: kom | D141: 3 | F141: =D141*E141 -> 0
A143: 42. | B143: Toplinska izolacija od kamene vune u izolacijskom plaštu od Al lima, minimalne debljine 50 mm | C143: m2 | D143: 50 | F143: =D143*E143 -> 0
B145: Ukupno C | F145: =SUM(F99:F143) -> 0
A147: D | B147: Ostalo
A149: 43. | B149: Glavni strojarski projekt | C149: kpl | D149: 1 | F149: =D149*E149 -> 0
A151: 44. | B151: Elektro projekt | C151: kpl | D151: 1 | F151: =D151*E151 -> 0
A153: 45. | B153: Priključak na gradski plinovod - EVN | C153: kpl | D153: 1 | F153: =D153*E153 -> 0
...

Sheet REKAPITULACIJA
A7: 1. | B7: REKAPITULACIJA
A9: 1 | B9: GRAĐEVINSKO OBRTNIČKI RADOVI | F9: =+'TROŠKOVNIK OBNOVE '!P216 -> 0
A10: 2 | B10: STROJARSKI RADOVI | F10: =+'STROJARSKI '!F161 -> 0
B12: UKUPNO | F12: =SUM(F9:F10) -> 0
B14: PDV 25% | F14: =F12*0.25 -> 0
B16: SVEUKUPNO | F16: =F12+F14 -> 0
